BEGIN:VCALENDAR
VERSION:2.0
PRODID:-//georgiacenterforchildadvocacy.org//NONSGML kigkonsult.se iCalcrea
 tor 2.30.10//
CALSCALE:GREGORIAN
METHOD:PUBLISH
UID:6788feef-5e4c-4a37-b7d1-e64c8ea73c17
X-WR-CALDESC:Circles of Safety has identified\, refined and shared effectiv
 e ways for individuals\, families and communities to act to prevent child 
 sexual abuse before children are harmed - and to get help for everyone inv
 olved. \n\n<strong>When:</strong>\n• Friday\, April 28\, 2023 from 10:00am
  to 12:30pm\n\n<strong>Target Audience:</strong>\nParents\, Caregivers\, C
 ommunity Members\, Child-Serving Professionals\, Healthcare/Human Services
  Providers\, Faith Organizations\, Educators\, Business\n\n<strong>Cost: <
 /strong>\n$15.00\, but in honor of  Child Abuse Prevention Month it is FRE
 E!\n\n<strong>Registration:</strong>\nRegistration is required. To registe
 r\, please click 'register now' at the top of the page. Once you have sign
 ed up\, additional video conference instructions will be emailed to you. T
 here is a minimum of people needed to conduct a training\, so please be aw
 are that if there is low registration\, this training may be canceled.
X-WR-RELCALID:82b406d1b7b4ce74498c897d5c6ecc2f
X-WR-TIMEZONE:America/New_York
BEGIN:VTIMEZONE
TZID:America/New_York
BEGIN:STANDARD
TZNAME:EST
DTSTART:20221106T020000
TZOFFSETFROM:-0400
TZOFFSETTO:-0500
RDATE:20231105T020000
END:STANDARD
BEGIN:DAYLIGHT
TZNAME:EDT
DTSTART:20230312T020000
TZOFFSETFROM:-0500
TZOFFSETTO:-0400
RDATE:20240310T020000
END:DAYLIGHT
END:VTIMEZONE
BEGIN:VEVENT
UID:a63797cf-5ff0-449d-9850-2d91b224b6a9
DTSTAMP:20260420T213605Z
DESCRIPTION:Circles of Safety has identified\, refined and shared effective
  ways for individuals\, families and communities to act to prevent child s
 exual abuse before children are harmed - and to get help for everyone invo
 lved. \n\n<strong>When:</strong>\n• Friday\, April 28\, 2023 from 10:00am 
 to 12:30pm\n\n<strong>Target Audience:</strong>\nParents\, Caregivers\, Co
 mmunity Members\, Child-Serving Professionals\, Healthcare/Human Services 
 Providers\, Faith Organizations\, Educators\, Business\n\n<strong>Cost: </
 strong>\n$15.00\, but in honor of  Child Abuse Prevention Month it is FREE
 !\n\n<strong>Registration:</strong>\nRegistration is required. To register
 \, please click 'register now' at the top of the page. Once you have signe
 d up\, additional video conference instructions will be emailed to you. Th
 ere is a minimum of people needed to conduct a training\, so please be awa
 re that if there is low registration\, this training may be canceled.
DTSTART;TZID=America/New_York:20230428T100000
DTEND;TZID=America/New_York:20230428T123000
LOCATION:Virtually via Zoom
SUMMARY:Circles of Safety: Understanding the Role of Healthy Sexual Develop
 ment
END:VEVENT
END:VCALENDAR
