BEGIN:VCALENDAR
VERSION:2.0
PRODID:-//georgiacenterforchildadvocacy.org//NONSGML kigkonsult.se iCalcrea
 tor 2.30.10//
CALSCALE:GREGORIAN
METHOD:PUBLISH
UID:0a1fa59b-3471-46f4-9440-bb761062d4e3
X-WR-CALDESC:Join us for the Courage to Care Training of Trainers (TOT) and
  prepare to lead a high-impact child sexual abuse and exploitation prevent
 ion program in your organization and community. This TOT equips you with a
  ready-to-deliver curriculum\, facilitator guidance\, and practical tools 
 to confidently train youth-serving adults—whether they are professionals\,
  volunteers\, or caregivers.\n\nBy completing the TOT\, you’ll expand your
  prevention leadership\, strengthen your organization’s capacity to protec
 t children\, and help lay the foundation for a growing statewide network c
 ommitted to creating safer environments for every child.\n\n<strong>WHEN:<
 /strong> Thursday October 22\, 2026 from 8:30am- 4:00pm\n<strong>WHERE:</s
 trong> 680 Murphy Ave. SW\, Unit 5091\, Atlanta\, GA 30310\n<strong>COST:<
 /strong> $300.00 This includes the first year of the Courage to Care licen
 sing fee.  <strong>You will be charged a $50.00 annual licensing fee each 
 subsequent year.</strong> This fee allows you to continue accessing all tr
 aining materials and to receive technical assistance.  \n\nRegistration is
  required. To register\, please click 'register now' at the top of the pag
 e. Additional instructions will be emailed to you in the week before the t
 raining. \n\n<strong>Participation in the Courage to Care training is requ
 ired first in order to attend the TOT.</strong>\n\nSales are final and no 
 refunds will be given for non-attendance. If you need to change your regis
 tration status\, you must email prevention@gacfca.org by October 15\, 2026
 .
X-WR-RELCALID:acf6f9e8b0a8d399b1a5fab0f62aa081
X-WR-TIMEZONE:America/New_York
BEGIN:VTIMEZONE
TZID:America/New_York
BEGIN:STANDARD
TZNAME:EST
DTSTART:20251102T020000
TZOFFSETFROM:-0400
TZOFFSETTO:-0500
RDATE:20261101T020000
RDATE:20271107T020000
END:STANDARD
BEGIN:DAYLIGHT
TZNAME:EDT
DTSTART:20260308T020000
TZOFFSETFROM:-0500
TZOFFSETTO:-0400
RDATE:20270314T020000
RDATE:20280312T020000
END:DAYLIGHT
END:VTIMEZONE
BEGIN:VEVENT
UID:b15c4955-1236-423f-8bf2-23b857b3dafd
DTSTAMP:20260421T201259Z
DESCRIPTION:Join us for the Courage to Care Training of Trainers (TOT) and 
 prepare to lead a high-impact child sexual abuse and exploitation preventi
 on program in your organization and community. This TOT equips you with a 
 ready-to-deliver curriculum\, facilitator guidance\, and practical tools t
 o confidently train youth-serving adults—whether they are professionals\, 
 volunteers\, or caregivers.\n\nBy completing the TOT\, you’ll expand your 
 prevention leadership\, strengthen your organization’s capacity to protect
  children\, and help lay the foundation for a growing statewide network co
 mmitted to creating safer environments for every child.\n\n<strong>WHEN:</
 strong> Thursday October 22\, 2026 from 8:30am- 4:00pm\n<strong>WHERE:</st
 rong> 680 Murphy Ave. SW\, Unit 5091\, Atlanta\, GA 30310\n<strong>COST:</
 strong> $300.00 This includes the first year of the Courage to Care licens
 ing fee.  <strong>You will be charged a $50.00 annual licensing fee each s
 ubsequent year.</strong> This fee allows you to continue accessing all tra
 ining materials and to receive technical assistance.  \n\nRegistration is 
 required. To register\, please click 'register now' at the top of the page
 . Additional instructions will be emailed to you in the week before the tr
 aining. \n\n<strong>Participation in the Courage to Care training is requi
 red first in order to attend the TOT.</strong>\n\nSales are final and no r
 efunds will be given for non-attendance. If you need to change your regist
 ration status\, you must email prevention@gacfca.org by October 15\, 2026.
DTSTART;TZID=America/New_York:20261022T083000
DTEND;TZID=America/New_York:20261022T160000
LOCATION:Georgia Center for Child Advocacy\, 680 Murphy Avenue Suite 5091\,
  Atlanta\, GA 30310 US
SUMMARY:Training of the Trainer- Courage to Care
END:VEVENT
END:VCALENDAR
