BEGIN:VCALENDAR
VERSION:2.0
PRODID:-//georgiacenterforchildadvocacy.org//NONSGML kigkonsult.se iCalcrea
 tor 2.30.10//
CALSCALE:GREGORIAN
METHOD:PUBLISH
UID:ecef3c4b-c39c-4eb5-9486-5e9024e738d6
X-WR-CALDESC:Join us for the Courage to Care Training of Trainers (TOT) and
  prepare to lead a high-impact child sexual abuse and exploitation prevent
 ion program in your organization and community. This TOT equips you with a
  ready-to-deliver curriculum\, facilitator guidance\, and practical tools 
 to confidently train youth-serving adults—whether they are professionals\,
  volunteers\, or caregivers.\n\nBy completing the TOT\, you’ll expand your
  prevention leadership\, strengthen your organization’s capacity to protec
 t children\, and help lay the foundation for a growing statewide network c
 ommitted to creating safer environments for every child.\n\n<strong>WHEN:<
 /strong> Wednesday August 5\, 2026 from 8:30am- 4:00pm\n<strong>WHERE:</st
 rong> 680 Murphy Ave. SW\, Unit 5091\, Atlanta\, GA 30310\n<strong>COST:</
 strong> $300.00 This includes the first year of the Courage to Care licens
 ing fee.  <strong>You will be charged a $50.00 annual licensing fee each s
 ubsequent year.</strong> This fee allows you to continue accessing all tra
 ining materials and to receive technical assistance.  \n\nRegister by clic
 king the REGISTER NOW button at the top of the page.\n\n<strong>Participat
 ion in the Courage to Care training is required first in order to attend t
 he TOT.</strong>
X-WR-RELCALID:97fdec172c6a01c84715a210d61c35e3
X-WR-TIMEZONE:America/New_York
BEGIN:VTIMEZONE
TZID:America/New_York
BEGIN:STANDARD
TZNAME:EST
DTSTART:20251102T020000
TZOFFSETFROM:-0400
TZOFFSETTO:-0500
RDATE:20261101T020000
RDATE:20271107T020000
END:STANDARD
BEGIN:DAYLIGHT
TZNAME:EDT
DTSTART:20260308T020000
TZOFFSETFROM:-0500
TZOFFSETTO:-0400
RDATE:20270314T020000
END:DAYLIGHT
END:VTIMEZONE
BEGIN:VEVENT
UID:a62feb99-7345-4033-8561-dcac2a3b6071
DTSTAMP:20260421T171237Z
DESCRIPTION:Join us for the Courage to Care Training of Trainers (TOT) and 
 prepare to lead a high-impact child sexual abuse and exploitation preventi
 on program in your organization and community. This TOT equips you with a 
 ready-to-deliver curriculum\, facilitator guidance\, and practical tools t
 o confidently train youth-serving adults—whether they are professionals\, 
 volunteers\, or caregivers.\n\nBy completing the TOT\, you’ll expand your 
 prevention leadership\, strengthen your organization’s capacity to protect
  children\, and help lay the foundation for a growing statewide network co
 mmitted to creating safer environments for every child.\n\n<strong>WHEN:</
 strong> Wednesday August 5\, 2026 from 8:30am- 4:00pm\n<strong>WHERE:</str
 ong> 680 Murphy Ave. SW\, Unit 5091\, Atlanta\, GA 30310\n<strong>COST:</s
 trong> $300.00 This includes the first year of the Courage to Care licensi
 ng fee.  <strong>You will be charged a $50.00 annual licensing fee each su
 bsequent year.</strong> This fee allows you to continue accessing all trai
 ning materials and to receive technical assistance.  \n\nRegister by click
 ing the REGISTER NOW button at the top of the page.\n\n<strong>Participati
 on in the Courage to Care training is required first in order to attend th
 e TOT.</strong>
DTSTART;TZID=America/New_York:20260805T083000
DTEND;TZID=America/New_York:20260805T160000
LOCATION:Georgia Center for Child Advocacy\, 680 Murphy Avenue Suite 5091\,
  Atlanta\, GA 30310 US
SUMMARY:Training of the Trainer- Courage to Care
END:VEVENT
END:VCALENDAR
