BEGIN:VCALENDAR
VERSION:2.0
PRODID:-//georgiacenterforchildadvocacy.org//NONSGML kigkonsult.se iCalcrea
 tor 2.30.10//
CALSCALE:GREGORIAN
METHOD:PUBLISH
UID:562a9081-cb0d-41a9-9bb6-cbd3d6f00cae
X-WR-CALDESC:Practitioners introduce parents to the five key principles of 
 positive parenting that form the basis of Triple P. These principles are:
 \nânâ Ensuring a safe engaging environment.\nâ€˘ Creating a positive learning 
 environment.\nâ€˘ Using assertive discipline.\nâ€˘ Having reasonable expectati
 ons.\nâ€˘ Looking after yourself as a parent.\n\nWhen: Thursday\, October 31
 st\, 2024 from 10:00am to 12:00pm.\n\nTarget Audience: Parents and Caregiv
 ers\n\n<strong>Cost:</strong>\nFree\n\n<strong>Registration:</strong>\nReg
 istration is required. To register\, please click 'register now' at the to
 p of the page. Once you have signed up\, additional training instructions 
 will be emailed to you.
X-WR-RELCALID:6cb254c01c9758e83fea4e59d986cf74
X-WR-TIMEZONE:America/New_York
BEGIN:VTIMEZONE
TZID:America/New_York
BEGIN:STANDARD
TZNAME:EST
DTSTART:20231105T020000
TZOFFSETFROM:-0400
TZOFFSETTO:-0500
RDATE:20241103T020000
RDATE:20251102T020000
END:STANDARD
BEGIN:DAYLIGHT
TZNAME:EDT
DTSTART:20240310T020000
TZOFFSETFROM:-0500
TZOFFSETTO:-0400
RDATE:20250309T020000
RDATE:20260308T020000
END:DAYLIGHT
END:VTIMEZONE
BEGIN:VEVENT
UID:f47f9129-c18c-4b81-805d-d1b6005f1d16
DTSTAMP:20260421T082851Z
DESCRIPTION:Practitioners introduce parents to the five key principles of p
 ositive parenting that form the basis of Triple P. These principles are:\n
 â€˘ Ensuring a safe engaging environment.\nâ€˘ Creating a positive learning en
 vironment.\nâ€˘ Using assertive discipline.\nâ€˘ Having reasonable expectation
 s.\nâ€˘ Looking after yourself as a parent.\n\nWhen: Thursday\, October 31st
 \, 2024 from 10:00am to 12:00pm.\n\nTarget Audience: Parents and Caregiver
 s\n\n<strong>Cost:</strong>\nFree\n\n<strong>Registration:</strong>\nRegis
 tration is required. To register\, please click 'register now' at the top 
 of the page. Once you have signed up\, additional training instructions wi
 ll be emailed to you.
DTSTART;TZID=America/New_York:20241031T100000
DTEND;TZID=America/New_York:20241031T120000
LOCATION:Virtually via Zoom
SUMMARY:Triple P- Positive Parenting Program
END:VEVENT
END:VCALENDAR
