BEGIN:VCALENDAR
VERSION:2.0
PRODID:-//georgiacenterforchildadvocacy.org//NONSGML kigkonsult.se iCalcrea
 tor 2.30.10//
CALSCALE:GREGORIAN
METHOD:PUBLISH
UID:992d4465-9cc2-4198-ab11-99e8d3c9020c
X-WR-CALDESC:The Connections Matter Georgia Initiative is a collaboration b
 etween the Georgia Center for Child Advocacy and Prevent Child Abuse Georg
 ia focused on effectively educating communities about Adverse Childhood Ex
 periences (ACEs)\, trauma\, and resiliency. The Connections Matter Worksho
 p is an interactive discussion-based program. This Training of Trainers is
  a 2-day hybrid in-person/virtual training to train accepted applicants to
  deliver the Connections Matter Georgia training. The TOT will include a r
 eview of course content\, interactive breakouts and activities\, teach-bac
 k practice with feedback\, virtual adaptations\, manual overview\, and rev
 iew of website and marketing materials.\n\nNote: Participation and verific
 ation in a Connections Matter Georgia workshop is a prerequisite. If you h
 aven't taken the training yet or need a refresher\, please register for a 
 Connections Matter Georgia workshop that will take place before September 
 24\, 2024. The dates and times for these trainings are on the Attend a Pre
 vention Training tab on your left.\n\n<strong>When:</strong>\nThis is a 2-
 day hybrid in-person/virtual training:\n- Tuesday\, September 24\, 2024 fr
 om 8:30am to 5:00pm in-person in Atlanta\n- Virtual Meeting through Zoom i
 n the following weeks after the in-person day\n\n<strong>Target Audience:<
 /strong>\nParents\, Caregivers\, Community Members\, Child-Serving Profess
 ionals\, Healthcare/Human Services Providers\, Faith Organizations\, Educa
 tors\, Business\n\n<strong>Topics covered include:</strong>\n- Connection 
 between trauma\, brain development\, resilience\, and health\n- Concrete k
 nowledge about Adverse Childhood Experiences (ACEs) using Georgia data\n- 
 Strategies for increasing and improving your own connections\n- Tools for 
 strengthening both personal and community resilience\n- Action planning an
 d next steps for how you can make a difference\n- Resources on trauma-info
 rmed care and implementation\n\n<strong>Cost:</strong>\n$500.00 per traine
 r\n\n<strong>Registration:</strong>\nAn application is required to be cons
 idered for this training. Please click the Apply Now button below to be re
 directed to the application. Once the application is reviewed by the Conne
 ctions Matter Georgia team\, applicants will receive communication for how
  to precede.
X-WR-RELCALID:a7de79bf544290b7b91e956afb809351
X-WR-TIMEZONE:America/New_York
BEGIN:VTIMEZONE
TZID:America/New_York
BEGIN:STANDARD
TZNAME:EST
DTSTART:20231105T020000
TZOFFSETFROM:-0400
TZOFFSETTO:-0500
RDATE:20241103T020000
RDATE:20251102T020000
END:STANDARD
BEGIN:DAYLIGHT
TZNAME:EDT
DTSTART:20240310T020000
TZOFFSETFROM:-0500
TZOFFSETTO:-0400
RDATE:20250309T020000
RDATE:20260308T020000
END:DAYLIGHT
END:VTIMEZONE
BEGIN:VEVENT
UID:d0d42048-b18e-4960-a4a8-319ac3d5e31b
DTSTAMP:20260421T104108Z
DESCRIPTION:The Connections Matter Georgia Initiative is a collaboration be
 tween the Georgia Center for Child Advocacy and Prevent Child Abuse Georgi
 a focused on effectively educating communities about Adverse Childhood Exp
 eriences (ACEs)\, trauma\, and resiliency. The Connections Matter Workshop
  is an interactive discussion-based program. This Training of Trainers is 
 a 2-day hybrid in-person/virtual training to train accepted applicants to 
 deliver the Connections Matter Georgia training. The TOT will include a re
 view of course content\, interactive breakouts and activities\, teach-back
  practice with feedback\, virtual adaptations\, manual overview\, and revi
 ew of website and marketing materials.\n\nNote: Participation and verifica
 tion in a Connections Matter Georgia workshop is a prerequisite. If you ha
 ven't taken the training yet or need a refresher\, please register for a C
 onnections Matter Georgia workshop that will take place before September 2
 4\, 2024. The dates and times for these trainings are on the Attend a Prev
 ention Training tab on your left.\n\n<strong>When:</strong>\nThis is a 2-d
 ay hybrid in-person/virtual training:\n- Tuesday\, September 24\, 2024 fro
 m 8:30am to 5:00pm in-person in Atlanta\n- Virtual Meeting through Zoom in
  the following weeks after the in-person day\n\n<strong>Target Audience:</
 strong>\nParents\, Caregivers\, Community Members\, Child-Serving Professi
 onals\, Healthcare/Human Services Providers\, Faith Organizations\, Educat
 ors\, Business\n\n<strong>Topics covered include:</strong>\n- Connection b
 etween trauma\, brain development\, resilience\, and health\n- Concrete kn
 owledge about Adverse Childhood Experiences (ACEs) using Georgia data\n- S
 trategies for increasing and improving your own connections\n- Tools for s
 trengthening both personal and community resilience\n- Action planning and
  next steps for how you can make a difference\n- Resources on trauma-infor
 med care and implementation\n\n<strong>Cost:</strong>\n$500.00 per trainer
 \n\n<strong>Registration:</strong>\nAn application is required to be consi
 dered for this training. Please click the Apply Now button below to be red
 irected to the application. Once the application is reviewed by the Connec
 tions Matter Georgia team\, applicants will receive communication for how 
 to precede.
DTSTART;TZID=America/New_York:20240924T083000
DTEND;TZID=America/New_York:20240924T170000
LOCATION:In-Person in Atlanta & Virtually via Zoom
SUMMARY:Connections Matter Training of Trainers (2-Day\, one in-person\, on
 e virtual)
END:VEVENT
END:VCALENDAR
