BEGIN:VCALENDAR
VERSION:2.0
PRODID:-//georgiacenterforchildadvocacy.org//NONSGML kigkonsult.se iCalcrea
 tor 2.30.10//
CALSCALE:GREGORIAN
METHOD:PUBLISH
UID:2073d7e9-d4ab-47ea-8c03-8c12b8b2ba02
X-WR-CALDESC:The Connections Matter Georgia Initiative is a collaboration b
 etween the Georgia Center for Child Advocacy and Prevent Child Abuse Georg
 ia focused on effectively educating communities about Adverse Childhood Ex
 periences (ACEs)\, trauma\, and resiliency. The Connections Matter Worksho
 p is an interactive discussion-based program that can be taken in either t
 wo days (2 hours each day) OR one day (4 hours) via virtual Zoom format. 
 \n\n<strong>When:</strong>\nThis is a 1-day workshop\, Tuesday\, August 27
 th\, 2024 from 8:30am to 12:30pm\n\n<strong>Target Audience:</strong>\nPar
 ents\, Caregivers\, Community Members\, Child-Serving Professionals\, Heal
 thcare/Human Services Providers\, Faith Organizations\, Educators\, Busine
 ss\n\n<strong>Topics covered include:</strong>\n- Connection between traum
 a\, brain development\, resilience\, and health\n- Concrete knowledge abou
 t Adverse Childhood Experiences (ACEs) using Georgia data\n- Strategies fo
 r increasing and improving your own connections\n- Tools for strengthening
  both personal and community resilience\n- Action planning and next steps 
 for how you can make a difference\n- Resources on trauma-informed care and
  implementation\n\n<strong>Cost:</strong>\n$20.00\n\n<strong>Registration:
 </strong>\nRegistration is required. To register\, please click 'register 
 now' at the top of the page. Once you have signed up\, additional video co
 nference instructions will be emailed to you. A follow-up survey will be s
 ent via email immediately following the training and again 3 months post-t
 raining.  In order to receive a certificate of completion\, participants m
 ust complete the initial follow-up survey.
X-WR-RELCALID:a5b3bacb9f3a3c3c3297dafe2dba5e23
X-WR-TIMEZONE:America/New_York
BEGIN:VTIMEZONE
TZID:America/New_York
BEGIN:STANDARD
TZNAME:EST
DTSTART:20231105T020000
TZOFFSETFROM:-0400
TZOFFSETTO:-0500
RDATE:20241103T020000
RDATE:20251102T020000
END:STANDARD
BEGIN:DAYLIGHT
TZNAME:EDT
DTSTART:20240310T020000
TZOFFSETFROM:-0500
TZOFFSETTO:-0400
RDATE:20250309T020000
END:DAYLIGHT
END:VTIMEZONE
BEGIN:VEVENT
UID:840b59ba-1db3-4835-a557-403f694e9800
DTSTAMP:20260419T132535Z
DESCRIPTION:The Connections Matter Georgia Initiative is a collaboration be
 tween the Georgia Center for Child Advocacy and Prevent Child Abuse Georgi
 a focused on effectively educating communities about Adverse Childhood Exp
 eriences (ACEs)\, trauma\, and resiliency. The Connections Matter Workshop
  is an interactive discussion-based program that can be taken in either tw
 o days (2 hours each day) OR one day (4 hours) via virtual Zoom format. \n
 \n<strong>When:</strong>\nThis is a 1-day workshop\, Tuesday\, August 27th
 \, 2024 from 8:30am to 12:30pm\n\n<strong>Target Audience:</strong>\nParen
 ts\, Caregivers\, Community Members\, Child-Serving Professionals\, Health
 care/Human Services Providers\, Faith Organizations\, Educators\, Business
 \n\n<strong>Topics covered include:</strong>\n- Connection between trauma\
 , brain development\, resilience\, and health\n- Concrete knowledge about 
 Adverse Childhood Experiences (ACEs) using Georgia data\n- Strategies for 
 increasing and improving your own connections\n- Tools for strengthening b
 oth personal and community resilience\n- Action planning and next steps fo
 r how you can make a difference\n- Resources on trauma-informed care and i
 mplementation\n\n<strong>Cost:</strong>\n$20.00\n\n<strong>Registration:</
 strong>\nRegistration is required. To register\, please click 'register no
 w' at the top of the page. Once you have signed up\, additional video conf
 erence instructions will be emailed to you. A follow-up survey will be sen
 t via email immediately following the training and again 3 months post-tra
 ining.  In order to receive a certificate of completion\, participants mus
 t complete the initial follow-up survey.
DTSTART;TZID=America/New_York:20240827T083000
DTEND;TZID=America/New_York:20240827T123000
LOCATION:Virtually via Zoom
SUMMARY:Connections Matter Workshop (1-Day Session)
END:VEVENT
END:VCALENDAR
