BEGIN:VCALENDAR
VERSION:2.0
PRODID:-//georgiacenterforchildadvocacy.org//NONSGML kigkonsult.se iCalcrea
 tor 2.30.10//
CALSCALE:GREGORIAN
METHOD:PUBLISH
UID:e0436e4e-6f69-4b14-8671-f0503615da21
X-WR-CALDESC:The Connections Matter Georgia Initiative is a collaboration b
 etween the Georgia Center for Child Advocacy and Prevent Child Abuse Georg
 ia focused on effectively educating communities about Adverse Childhood Ex
 periences (ACEs)\, trauma\, and resiliency. The Connections Matter Worksho
 p is an interactive discussion-based program. This Training of Trainers is
  a 2-day hybrid in-person/virtual training to train accepted applicants to
  deliver the Connections Matter Georgia training. The TOT will include a r
 eview of course content\, interactive breakouts and activities\, teach-bac
 k practice with feedback\, virtual adaptations\, manual overview\, and rev
 iew of website and marketing materials.\n\nNote: Participation and verific
 ation in a Connections Matter Georgia workshop is a prerequisite. If you h
 aven't taken the training yet or need a refresher\, please register for a 
 Connections Matter Georgia workshop that will take place before June 21\, 
 2021. The dates and times for these trainings are on the Attend a Preventi
 on Training tab on your left.\n\n<strong>When:</strong>\nThis is a 2-day h
 ybrid in-person/virtual training:\n- Wednesday\, September 20\, 2023 from 
 8:30am to 5:00pm in-person in Atlanta \n- Wednesday\, October 4\, 2023 fro
 m 11:00am to 12:30pm via Zoom\n\n<strong>Target Audience:</strong>\nParent
 s\, Caregivers\, Community Members\, Child-Serving Professionals\, Healthc
 are/Human Services Providers\, Faith Organizations\, Educators\, Business
 \n\n<strong>Topics covered include:</strong>\n- Connection between trauma\
 , brain development\, resilience\, and health\n- Concrete knowledge about 
 Adverse Childhood Experiences (ACEs) using Georgia data\n- Strategies for 
 increasing and improving your own connections\n- Tools for strengthening b
 oth personal and community resilience\n- Action planning and next steps fo
 r how you can make a difference\n- Resources on trauma-informed care and i
 mplementation\n\n<strong>Cost:</strong>\n$500.00 per trainer\n\n<strong>Re
 gistration:</strong>\nAn application is required to be considered for this
  training. Please click the Apply Now button below to be redirected to the
  application. Once the application is reviewed by the Connections Matter G
 eorgia team\, applicants will receive communication for how to precede.
X-WR-RELCALID:95e033fdaf630fa88732e65c51118470
X-WR-TIMEZONE:America/New_York
BEGIN:VTIMEZONE
TZID:America/New_York
BEGIN:STANDARD
TZNAME:EST
DTSTART:20221106T020000
TZOFFSETFROM:-0400
TZOFFSETTO:-0500
RDATE:20231105T020000
RDATE:20241103T020000
END:STANDARD
BEGIN:DAYLIGHT
TZNAME:EDT
DTSTART:20230312T020000
TZOFFSETFROM:-0500
TZOFFSETTO:-0400
RDATE:20240310T020000
RDATE:20250309T020000
END:DAYLIGHT
END:VTIMEZONE
BEGIN:VEVENT
UID:36f52dbc-f242-448d-93c1-0470f921d797
DTSTAMP:20260422T101311Z
DESCRIPTION:The Connections Matter Georgia Initiative is a collaboration be
 tween the Georgia Center for Child Advocacy and Prevent Child Abuse Georgi
 a focused on effectively educating communities about Adverse Childhood Exp
 eriences (ACEs)\, trauma\, and resiliency. The Connections Matter Workshop
  is an interactive discussion-based program. This Training of Trainers is 
 a 2-day hybrid in-person/virtual training to train accepted applicants to 
 deliver the Connections Matter Georgia training. The TOT will include a re
 view of course content\, interactive breakouts and activities\, teach-back
  practice with feedback\, virtual adaptations\, manual overview\, and revi
 ew of website and marketing materials.\n\nNote: Participation and verifica
 tion in a Connections Matter Georgia workshop is a prerequisite. If you ha
 ven't taken the training yet or need a refresher\, please register for a C
 onnections Matter Georgia workshop that will take place before June 21\, 2
 021. The dates and times for these trainings are on the Attend a Preventio
 n Training tab on your left.\n\n<strong>When:</strong>\nThis is a 2-day hy
 brid in-person/virtual training:\n- Wednesday\, September 20\, 2023 from 8
 :30am to 5:00pm in-person in Atlanta \n- Wednesday\, October 4\, 2023 from
  11:00am to 12:30pm via Zoom\n\n<strong>Target Audience:</strong>\nParents
 \, Caregivers\, Community Members\, Child-Serving Professionals\, Healthca
 re/Human Services Providers\, Faith Organizations\, Educators\, Business\n
 \n<strong>Topics covered include:</strong>\n- Connection between trauma\, 
 brain development\, resilience\, and health\n- Concrete knowledge about Ad
 verse Childhood Experiences (ACEs) using Georgia data\n- Strategies for in
 creasing and improving your own connections\n- Tools for strengthening bot
 h personal and community resilience\n- Action planning and next steps for 
 how you can make a difference\n- Resources on trauma-informed care and imp
 lementation\n\n<strong>Cost:</strong>\n$500.00 per trainer\n\n<strong>Regi
 stration:</strong>\nAn application is required to be considered for this t
 raining. Please click the Apply Now button below to be redirected to the a
 pplication. Once the application is reviewed by the Connections Matter Geo
 rgia team\, applicants will receive communication for how to precede.
DTSTART;TZID=America/New_York:20230920T083000
DTEND;TZID=America/New_York:20230920T170000
LOCATION:In-person in Atlanta & Virtually via Zoom
SUMMARY:Connections Matter Training of Trainers (2-Day\, one in-person\, on
 e virtual)
END:VEVENT
END:VCALENDAR
