BEGIN:VCALENDAR
VERSION:2.0
PRODID:-//georgiacenterforchildadvocacy.org//NONSGML kigkonsult.se iCalcrea
 tor 2.30.10//
CALSCALE:GREGORIAN
METHOD:PUBLISH
UID:07744832-041d-4a0a-a34d-1c9e1adcd5e8
X-WR-CALDESC:The Connections Matter Georgia Initiative is a collaboration b
 etween the Georgia Center for Child Advocacy and Prevent Child Abuse Georg
 ia focused on effectively educating communities about Adverse Childhood Ex
 periences (ACEs)\, trauma\, and resiliency. The Connections Matter Worksho
 p is an interactive discussion-based program that can be taken in either t
 wo days (2 hours each day) OR one day (4 hours) via virtual Zoom format. 
 \n\n<strong>When:</strong>\nThis is a 1-day workshop\, Wednesday\, August 
 30th\, 2023 from 9:00am to 1:00pm.\n\n<strong>Target Audience:</strong>\nP
 arents\, Caregivers\, Community Members\, Child-Serving Professionals\, He
 althcare/Human Services Providers\, Faith Organizations\, Educators\, Busi
 ness\n\n<strong>Topics covered include:</strong>\n- Connection between tra
 uma\, brain development\, resilience\, and health\n- Concrete knowledge ab
 out Adverse Childhood Experiences (ACEs) using Georgia data\n- Strategies 
 for increasing and improving your own connections\n- Tools for strengtheni
 ng both personal and community resilience\n- Action planning and next step
 s for how you can make a difference\n- Resources on trauma-informed care a
 nd implementation\n\n<strong>Cost:</strong>\n$20.00.\n\n<strong>Registrati
 on:</strong>\nRegistration is required. To register\, please click 'regist
 er now' at the top of the page. Once you have signed up\, additional video
  conference instructions will be emailed to you. A follow-up survey will b
 e sent via email immediately following the training and again 3 months pos
 t-training.  In order to receive a certificate of completion\, participant
 s must complete the initial follow-up survey.
X-WR-RELCALID:159ca00d21fc11a627a6fedfbc4a2aac
X-WR-TIMEZONE:America/New_York
BEGIN:VTIMEZONE
TZID:America/New_York
BEGIN:STANDARD
TZNAME:EST
DTSTART:20221106T020000
TZOFFSETFROM:-0400
TZOFFSETTO:-0500
RDATE:20231105T020000
RDATE:20241103T020000
END:STANDARD
BEGIN:DAYLIGHT
TZNAME:EDT
DTSTART:20230312T020000
TZOFFSETFROM:-0500
TZOFFSETTO:-0400
RDATE:20240310T020000
END:DAYLIGHT
END:VTIMEZONE
BEGIN:VEVENT
UID:9ef671cc-07c5-43f9-a7a6-d82fb2bd24fd
DTSTAMP:20260422T115621Z
DESCRIPTION:The Connections Matter Georgia Initiative is a collaboration be
 tween the Georgia Center for Child Advocacy and Prevent Child Abuse Georgi
 a focused on effectively educating communities about Adverse Childhood Exp
 eriences (ACEs)\, trauma\, and resiliency. The Connections Matter Workshop
  is an interactive discussion-based program that can be taken in either tw
 o days (2 hours each day) OR one day (4 hours) via virtual Zoom format. \n
 \n<strong>When:</strong>\nThis is a 1-day workshop\, Wednesday\, August 30
 th\, 2023 from 9:00am to 1:00pm.\n\n<strong>Target Audience:</strong>\nPar
 ents\, Caregivers\, Community Members\, Child-Serving Professionals\, Heal
 thcare/Human Services Providers\, Faith Organizations\, Educators\, Busine
 ss\n\n<strong>Topics covered include:</strong>\n- Connection between traum
 a\, brain development\, resilience\, and health\n- Concrete knowledge abou
 t Adverse Childhood Experiences (ACEs) using Georgia data\n- Strategies fo
 r increasing and improving your own connections\n- Tools for strengthening
  both personal and community resilience\n- Action planning and next steps 
 for how you can make a difference\n- Resources on trauma-informed care and
  implementation\n\n<strong>Cost:</strong>\n$20.00.\n\n<strong>Registration
 :</strong>\nRegistration is required. To register\, please click 'register
  now' at the top of the page. Once you have signed up\, additional video c
 onference instructions will be emailed to you. A follow-up survey will be 
 sent via email immediately following the training and again 3 months post-
 training.  In order to receive a certificate of completion\, participants 
 must complete the initial follow-up survey.
DTSTART;TZID=America/New_York:20230830T090000
DTEND;TZID=America/New_York:20230830T130000
LOCATION:Virtually via Zoom
SUMMARY:Virtual Connections Matter Workshop (1-Day Session)
END:VEVENT
END:VCALENDAR
