BEGIN:VCALENDAR
VERSION:2.0
PRODID:-//georgiacenterforchildadvocacy.org//NONSGML kigkonsult.se iCalcrea
 tor 2.30.10//
CALSCALE:GREGORIAN
METHOD:PUBLISH
UID:bcbc2472-fc1d-46cc-8130-e4a07e8de8e4
X-WR-CALDESC:Circles of Safety has identified\, refined and shared effectiv
 e ways for individuals\, families and communities to act to prevent child 
 sexual abuse before children are harmed - and to get help for everyone inv
 olved. \n\n<strong>When:</strong>\n• Wednesday\, June 14th\, 2023 from 12:
 00pm to 2:30pm\n\n<strong>Target Audience:</strong>\nParents\, Caregivers\
 , Community Members\, Child-Serving Professionals\, Healthcare/Human Servi
 ces Providers\, Faith Organizations\, Educators\, Business\n\n<strong>Cost
 : </strong>\n$15.00 \n\n<strong>Registration:</strong>\nRegistration is re
 quired. To register\, please click 'register now' below. Once you have sig
 ned up\, additional video conference instructions will be emailed to you. 
 A follow-up survey will be sent via email immediately following the traini
 ng. In order to receive a certificate of completion\, participants must co
 mplete the initial follow-up survey. There is a minimum of people needed t
 o conduct a training\, so please be aware that if there is low registratio
 n\, this training may be canceled. If a training is canceled\, you may be 
 rescheduled free of charge or may request a refund.
X-WR-RELCALID:39c428f10264ad6fb1cff7f20306144a
X-WR-TIMEZONE:America/New_York
BEGIN:VTIMEZONE
TZID:America/New_York
BEGIN:STANDARD
TZNAME:EST
DTSTART:20221106T020000
TZOFFSETFROM:-0400
TZOFFSETTO:-0500
RDATE:20231105T020000
RDATE:20241103T020000
END:STANDARD
BEGIN:DAYLIGHT
TZNAME:EDT
DTSTART:20230312T020000
TZOFFSETFROM:-0500
TZOFFSETTO:-0400
RDATE:20240310T020000
END:DAYLIGHT
END:VTIMEZONE
BEGIN:VEVENT
UID:f5ccafe1-3c21-4826-8a88-7cb3f833503f
DTSTAMP:20260421T161406Z
DESCRIPTION:Circles of Safety has identified\, refined and shared effective
  ways for individuals\, families and communities to act to prevent child s
 exual abuse before children are harmed - and to get help for everyone invo
 lved. \n\n<strong>When:</strong>\n• Wednesday\, June 14th\, 2023 from 12:0
 0pm to 2:30pm\n\n<strong>Target Audience:</strong>\nParents\, Caregivers\,
  Community Members\, Child-Serving Professionals\, Healthcare/Human Servic
 es Providers\, Faith Organizations\, Educators\, Business\n\n<strong>Cost:
  </strong>\n$15.00 \n\n<strong>Registration:</strong>\nRegistration is req
 uired. To register\, please click 'register now' below. Once you have sign
 ed up\, additional video conference instructions will be emailed to you. A
  follow-up survey will be sent via email immediately following the trainin
 g. In order to receive a certificate of completion\, participants must com
 plete the initial follow-up survey. There is a minimum of people needed to
  conduct a training\, so please be aware that if there is low registration
 \, this training may be canceled. If a training is canceled\, you may be r
 escheduled free of charge or may request a refund.
DTSTART;TZID=America/New_York:20230614T120000
DTEND;TZID=America/New_York:20230614T143000
LOCATION:Virtually via Zoom
SUMMARY:Circles of Safety: Understanding the Role of Healthy Sexual Develop
 ment
END:VEVENT
END:VCALENDAR
