BEGIN:VCALENDAR
VERSION:2.0
PRODID:-//georgiacenterforchildadvocacy.org//NONSGML kigkonsult.se iCalcrea
 tor 2.30.10//
CALSCALE:GREGORIAN
METHOD:PUBLISH
UID:68e70219-0c8a-4ffb-8c4f-c6353d32b07d
X-WR-CALDESC:Child sexual abuse is an all-too-common\, widespread issue. Ma
 ny victims of child sexual abuse and exploitation live at home and attend 
 school. These children interact with family\, educators\, youth-serving or
 ganizations\, professionals\, and the community. Therefore\, awareness and
  prevention education are essential to protecting them. Because young peop
 le use digital technologies for everyday activities\, this presentation wi
 ll explain why internet safety matters\, the risks associated with interne
 t usage and how to teach them to protect themselves while online.\n\n<stro
 ng>When:</strong>\nThursday\, April 27th\, 2023 from 10:00am to 11:00am\n
 \n<strong>Cost:</strong>\nDuring April in honor of Child Abuse Prevention 
 (CAP) Month...training is FREE! \n\n<strong>Registration:</strong>\nRegist
 ration is required. To register\, please click 'register now' at the top o
 f the page. Once you have signed up\, additional video conference instruct
 ions will be emailed to you. A follow-up survey will be sent via email imm
 ediately following the training. In order to receive a certificate of comp
 letion\, participants must complete the initial follow-up survey. There is
  a minimum of people needed to conduct a training\, so please be aware tha
 t if there is low registration\, this training may be canceled.
X-WR-RELCALID:115d8c60e30110b344bf78b507e1f53c
X-WR-TIMEZONE:America/New_York
BEGIN:VTIMEZONE
TZID:America/New_York
BEGIN:STANDARD
TZNAME:EST
DTSTART:20221106T020000
TZOFFSETFROM:-0400
TZOFFSETTO:-0500
RDATE:20231105T020000
END:STANDARD
BEGIN:DAYLIGHT
TZNAME:EDT
DTSTART:20230312T020000
TZOFFSETFROM:-0500
TZOFFSETTO:-0400
RDATE:20240310T020000
END:DAYLIGHT
END:VTIMEZONE
BEGIN:VEVENT
UID:7ac6a861-2fe5-44c7-b05a-c9e4aebc37f9
DTSTAMP:20260421T130502Z
DESCRIPTION:Child sexual abuse is an all-too-common\, widespread issue. Man
 y victims of child sexual abuse and exploitation live at home and attend s
 chool. These children interact with family\, educators\, youth-serving org
 anizations\, professionals\, and the community. Therefore\, awareness and 
 prevention education are essential to protecting them. Because young peopl
 e use digital technologies for everyday activities\, this presentation wil
 l explain why internet safety matters\, the risks associated with internet
  usage and how to teach them to protect themselves while online.\n\n<stron
 g>When:</strong>\nThursday\, April 27th\, 2023 from 10:00am to 11:00am\n\n
 <strong>Cost:</strong>\nDuring April in honor of Child Abuse Prevention (C
 AP) Month...training is FREE! \n\n<strong>Registration:</strong>\nRegistra
 tion is required. To register\, please click 'register now' at the top of 
 the page. Once you have signed up\, additional video conference instructio
 ns will be emailed to you. A follow-up survey will be sent via email immed
 iately following the training. In order to receive a certificate of comple
 tion\, participants must complete the initial follow-up survey. There is a
  minimum of people needed to conduct a training\, so please be aware that 
 if there is low registration\, this training may be canceled.
DTSTART;TZID=America/New_York:20230427T100000
DTEND;TZID=America/New_York:20230427T110000
LOCATION:Virtually via Zoom
SUMMARY:Internet Safety
END:VEVENT
END:VCALENDAR
