BEGIN:VCALENDAR
VERSION:2.0
PRODID:-//georgiacenterforchildadvocacy.org//NONSGML kigkonsult.se iCalcrea
 tor 2.30.10//
CALSCALE:GREGORIAN
METHOD:PUBLISH
UID:381ddbc8-8e8e-4bf1-aee8-27fdb761d22f
X-WR-CALDESC:The Connections Matter Georgia Initiative is a collaboration b
 etween the Georgia Center for Child Advocacy and Prevent Child Abuse Georg
 ia focused on effectively educating communities about Adverse Childhood Ex
 periences (ACEs)\, trauma\, and resiliency. The Connections Matter Worksho
 p is an interactive discussion-based program that can be taken in either t
 wo days (2 hours each day) OR one day (4 hours) via virtual Zoom format. 
 \n\n<strong>When:</strong>\nThis is a 2-day workshop\, both days are REQUI
 RED from 9:00am – 11:00am\n• Tuesday\, April 25\, 2023\n• Wednesday\, Apri
 l 26\, 2023\n\n<strong>Target Audience:</strong>\nParents\, Caregivers\, C
 ommunity Members\, Child-Serving Professionals\, Healthcare/Human Services
  Providers\, Faith Organizations\, Educators\, Business\n\n<strong>Topics 
 covered include:</strong>\n- Connection between trauma\, brain development
 \, resilience\, and health\n- Concrete knowledge about Adverse Childhood E
 xperiences (ACEs) using Georgia data\n- Strategies for increasing and impr
 oving your own connections\n- Tools for strengthening both personal and co
 mmunity resilience\n- Action planning and next steps for how you can make 
 a difference\n- Resources on trauma-informed care and implementation\n\n<s
 trong>Cost:</strong>\n$20.00\, but in honor of Child Abuse Prevention Mont
 h...it is FREE!\n\n<strong>Registration:</strong>\nRegistration is require
 d. To register\, please click 'register now' at the top of the page. Once 
 you have signed up\, additional video conference instructions will be emai
 led to you.  A follow-up survey will be sent via email immediately followi
 ng the training and again 3 months post-training.  In order to receive a c
 ertificate of completion\, participants must complete the initial follow-u
 p survey. There is a minimum of people needed to conduct a training\, so p
 lease be aware that if there is low registration\, this training may be ca
 nceled.
X-WR-RELCALID:83c3e61a54f8ab7e75477cafb9af4f53
X-WR-TIMEZONE:America/New_York
BEGIN:VTIMEZONE
TZID:America/New_York
BEGIN:STANDARD
TZNAME:EST
DTSTART:20221106T020000
TZOFFSETFROM:-0400
TZOFFSETTO:-0500
RDATE:20231105T020000
END:STANDARD
BEGIN:DAYLIGHT
TZNAME:EDT
DTSTART:20230312T020000
TZOFFSETFROM:-0500
TZOFFSETTO:-0400
RDATE:20240310T020000
END:DAYLIGHT
END:VTIMEZONE
BEGIN:VEVENT
UID:86f9ee8a-f355-4a02-aac8-43b694630893
DTSTAMP:20260421T130638Z
DESCRIPTION:The Connections Matter Georgia Initiative is a collaboration be
 tween the Georgia Center for Child Advocacy and Prevent Child Abuse Georgi
 a focused on effectively educating communities about Adverse Childhood Exp
 eriences (ACEs)\, trauma\, and resiliency. The Connections Matter Workshop
  is an interactive discussion-based program that can be taken in either tw
 o days (2 hours each day) OR one day (4 hours) via virtual Zoom format. \n
 \n<strong>When:</strong>\nThis is a 2-day workshop\, both days are REQUIRE
 D from 9:00am – 11:00am\n• Tuesday\, April 25\, 2023\n• Wednesday\, April 
 26\, 2023\n\n<strong>Target Audience:</strong>\nParents\, Caregivers\, Com
 munity Members\, Child-Serving Professionals\, Healthcare/Human Services P
 roviders\, Faith Organizations\, Educators\, Business\n\n<strong>Topics co
 vered include:</strong>\n- Connection between trauma\, brain development\,
  resilience\, and health\n- Concrete knowledge about Adverse Childhood Exp
 eriences (ACEs) using Georgia data\n- Strategies for increasing and improv
 ing your own connections\n- Tools for strengthening both personal and comm
 unity resilience\n- Action planning and next steps for how you can make a 
 difference\n- Resources on trauma-informed care and implementation\n\n<str
 ong>Cost:</strong>\n$20.00\, but in honor of Child Abuse Prevention Month.
 ..it is FREE!\n\n<strong>Registration:</strong>\nRegistration is required.
  To register\, please click 'register now' at the top of the page. Once yo
 u have signed up\, additional video conference instructions will be emaile
 d to you.  A follow-up survey will be sent via email immediately following
  the training and again 3 months post-training.  In order to receive a cer
 tificate of completion\, participants must complete the initial follow-up 
 survey. There is a minimum of people needed to conduct a training\, so ple
 ase be aware that if there is low registration\, this training may be canc
 eled.
DTSTART;TZID=America/New_York:20230425T090000
DTEND;TZID=America/New_York:20230425T110000
LOCATION:Virtually via Zoom
SUMMARY:Virtual Connections Matter Workshop (2-Day Session)
END:VEVENT
END:VCALENDAR
