BEGIN:VCALENDAR
VERSION:2.0
PRODID:-//georgiacenterforchildadvocacy.org//NONSGML kigkonsult.se iCalcrea
 tor 2.30.10//
CALSCALE:GREGORIAN
METHOD:PUBLISH
UID:258cb208-c072-44e5-9fab-97d00e950168
X-WR-CALDESC:The purpose of this course is to increase understanding of Com
 mercial Sexual Exploitation of Children (CSEC) and human trafficking and i
 ncrease knowledge of community resources available to victims. Participant
 s will also understand the trauma\, abuse and victimization associated wit
 h commercial exploitation of children and become familiar with the warning
  signs that trafficking victims may display.\n\n<strong>When:</strong>\nTh
 is is a one-hour long workshop\n• Monday\, April 24th\, 2023 from 11:00am 
 to 12:00pm\n\n<strong>Target Audience:</strong>\nParents\, Caregivers\, Co
 mmunity Members\, Child-Serving Professionals\, Healthcare/Human Services 
 Providers\, Faith Organizations\, Educators\, Business\n\n<strong>Cost:</s
 trong>\nDuring April in honor of Child Abuse Prevention (CAP) Month...trai
 ning is FREE! \n\n<strong>Registration:</strong>\nRegistration is required
 . To register\, please click 'register now' at the top of the page. Once y
 ou have signed up\, additional video conference instructions will be email
 ed to you. A follow-up survey will be sent via email immediately following
  the training. In order to receive a certificate of completion\, participa
 nts must complete the initial follow-up survey. There is a minimum of peop
 le needed to conduct a training\, so please be aware that if there is low 
 registration\, this training may be canceled.
X-WR-RELCALID:f61722b454294379988cc314ca00c797
X-WR-TIMEZONE:America/New_York
BEGIN:VTIMEZONE
TZID:America/New_York
BEGIN:STANDARD
TZNAME:EST
DTSTART:20221106T020000
TZOFFSETFROM:-0400
TZOFFSETTO:-0500
RDATE:20231105T020000
END:STANDARD
BEGIN:DAYLIGHT
TZNAME:EDT
DTSTART:20230312T020000
TZOFFSETFROM:-0500
TZOFFSETTO:-0400
RDATE:20240310T020000
END:DAYLIGHT
END:VTIMEZONE
BEGIN:VEVENT
UID:fa06d645-5f8e-400c-8653-a156ab30e97d
DTSTAMP:20260421T131209Z
DESCRIPTION:The purpose of this course is to increase understanding of Comm
 ercial Sexual Exploitation of Children (CSEC) and human trafficking and in
 crease knowledge of community resources available to victims. Participants
  will also understand the trauma\, abuse and victimization associated with
  commercial exploitation of children and become familiar with the warning 
 signs that trafficking victims may display.\n\n<strong>When:</strong>\nThi
 s is a one-hour long workshop\n• Monday\, April 24th\, 2023 from 11:00am t
 o 12:00pm\n\n<strong>Target Audience:</strong>\nParents\, Caregivers\, Com
 munity Members\, Child-Serving Professionals\, Healthcare/Human Services P
 roviders\, Faith Organizations\, Educators\, Business\n\n<strong>Cost:</st
 rong>\nDuring April in honor of Child Abuse Prevention (CAP) Month...train
 ing is FREE! \n\n<strong>Registration:</strong>\nRegistration is required.
  To register\, please click 'register now' at the top of the page. Once yo
 u have signed up\, additional video conference instructions will be emaile
 d to you. A follow-up survey will be sent via email immediately following 
 the training. In order to receive a certificate of completion\, participan
 ts must complete the initial follow-up survey. There is a minimum of peopl
 e needed to conduct a training\, so please be aware that if there is low r
 egistration\, this training may be canceled.
DTSTART;TZID=America/New_York:20230424T110000
DTEND;TZID=America/New_York:20230424T120000
LOCATION:Virtually via Zoom
SUMMARY:Commercial Sexual Exploitation of Children Awareness Training
END:VEVENT
END:VCALENDAR
