BEGIN:VCALENDAR
VERSION:2.0
PRODID:-//georgiacenterforchildadvocacy.org//NONSGML kigkonsult.se iCalcrea
 tor 2.30.10//
CALSCALE:GREGORIAN
METHOD:PUBLISH
UID:adb25e35-655e-4261-a377-163d9bc3d3f0
X-WR-CALDESC:Through its statewide prevention initiative\, the Georgia Cent
 er for Child Advocacy presents Darkness to Light’s Stewards of Children\, 
 child abuse prevention training.\n\n<strong>Target Audience:</strong>\nSte
 wards of Children is for any responsible adult who cares about the protect
 ion of children\, whether a parent or professional. It is also used for in
 dividuals and organizations who seek training for staff and volunteers in 
 the prevention of child sexual abuse\, and to enhance their child protecti
 on policies and procedures.\n \nStewards of Children is a 2.5 hour prevent
 ion training program that teaches adults how to prevent\, recognize and re
 act responsibly to child sexual abuse. It is the only nationally distribut
 ed\, evidence-based program proven to increase knowledge\, improve attitud
 es and change child protection behaviors. \n\nWhen:\nFriday\, April 21\, 2
 023 from 11:30am to 2:00pm\n\n<strong>Topics covered include:</strong>\n-F
 acts about the problem of child sexual abuse\n-Types of situations in whic
 h child sexual abuse might occur\n-Simple and effective strategies for pro
 tecting children from sexual abuse\n-The importance of talking about the p
 revention of sexual abuse with children and other adults\n-Signs of sexual
  abuse so that you might intervene and be able to react responsibly\n\n<st
 rong>Cost:</strong>\nDuring April in honor of Child Abuse Prevention (CAP)
  Month...training is FREE! \n\n<strong>Registration:</strong>\nRegistratio
 n is required. To register\, please click 'register now' at the top of the
  apge. Once you have signed up\, additional video conference instructions 
 will be emailed to you. A follow-up survey will be sent via email immediat
 ely following the training. In order to receive a certificate of completio
 n\, participants must complete the initial follow-up survey. There is a mi
 nimum of people needed to conduct a training\, so please be aware that if 
 there is low registration\, this training may be canceled. \n\n<strong>Con
 tinuing Education:</strong>\nThis program is approved for 2 contact hours 
 of continuing education by:\nThe National Association of Social Workers \n
 The National Board for Certified Counselors\nGeorgia Peace Officer Standar
 ds and Training (POST)\nBright From the Start for Childcare providers\nOhi
 o Nurses Association\nEmergency Medical Services
X-WR-RELCALID:fe00fe6621b7cf705ec5c09f3d421a5d
X-WR-TIMEZONE:America/New_York
BEGIN:VTIMEZONE
TZID:America/New_York
BEGIN:STANDARD
TZNAME:EST
DTSTART:20221106T020000
TZOFFSETFROM:-0400
TZOFFSETTO:-0500
RDATE:20231105T020000
END:STANDARD
BEGIN:DAYLIGHT
TZNAME:EDT
DTSTART:20230312T020000
TZOFFSETFROM:-0500
TZOFFSETTO:-0400
RDATE:20240310T020000
END:DAYLIGHT
END:VTIMEZONE
BEGIN:VEVENT
UID:da5eb88d-983f-4c06-8f0d-781a84eb44ea
DTSTAMP:20260421T130905Z
DESCRIPTION:Through its statewide prevention initiative\, the Georgia Cente
 r for Child Advocacy presents Darkness to Light’s Stewards of Children\, c
 hild abuse prevention training.\n\n<strong>Target Audience:</strong>\nStew
 ards of Children is for any responsible adult who cares about the protecti
 on of children\, whether a parent or professional. It is also used for ind
 ividuals and organizations who seek training for staff and volunteers in t
 he prevention of child sexual abuse\, and to enhance their child protectio
 n policies and procedures.\n \nStewards of Children is a 2.5 hour preventi
 on training program that teaches adults how to prevent\, recognize and rea
 ct responsibly to child sexual abuse. It is the only nationally distribute
 d\, evidence-based program proven to increase knowledge\, improve attitude
 s and change child protection behaviors. \n\nWhen:\nFriday\, April 21\, 20
 23 from 11:30am to 2:00pm\n\n<strong>Topics covered include:</strong>\n-Fa
 cts about the problem of child sexual abuse\n-Types of situations in which
  child sexual abuse might occur\n-Simple and effective strategies for prot
 ecting children from sexual abuse\n-The importance of talking about the pr
 evention of sexual abuse with children and other adults\n-Signs of sexual 
 abuse so that you might intervene and be able to react responsibly\n\n<str
 ong>Cost:</strong>\nDuring April in honor of Child Abuse Prevention (CAP) 
 Month...training is FREE! \n\n<strong>Registration:</strong>\nRegistration
  is required. To register\, please click 'register now' at the top of the 
 apge. Once you have signed up\, additional video conference instructions w
 ill be emailed to you. A follow-up survey will be sent via email immediate
 ly following the training. In order to receive a certificate of completion
 \, participants must complete the initial follow-up survey. There is a min
 imum of people needed to conduct a training\, so please be aware that if t
 here is low registration\, this training may be canceled. \n\n<strong>Cont
 inuing Education:</strong>\nThis program is approved for 2 contact hours o
 f continuing education by:\nThe National Association of Social Workers \nT
 he National Board for Certified Counselors\nGeorgia Peace Officer Standard
 s and Training (POST)\nBright From the Start for Childcare providers\nOhio
  Nurses Association\nEmergency Medical Services
DTSTART;TZID=America/New_York:20230421T113000
DTEND;TZID=America/New_York:20230421T140000
LOCATION:Virtually via Zoom
SUMMARY:Stewards of Children
END:VEVENT
END:VCALENDAR
