BEGIN:VCALENDAR
VERSION:2.0
PRODID:-//georgiacenterforchildadvocacy.org//NONSGML kigkonsult.se iCalcrea
 tor 2.30.10//
CALSCALE:GREGORIAN
METHOD:PUBLISH
UID:d453a60a-b899-40d6-b1d2-06e2e6434bdc
X-WR-CALDESC:The purpose of this course is to increase understanding of Com
 mercial Sexual Exploitation of Children (CSEC) and human trafficking and i
 ncrease knowledge of community resources available to victims. Participant
 s will also understand the trauma\, abuse and victimization associated wit
 h commercial exploitation of children and become familiar with the warning
  signs that trafficking victims may display.\n\n<strong>When:</strong>\nTh
 is is a two-hour long workshop\n• Wednesday\, April 19\, 2023 from 10:00am
  to 12:00pm\n\n<strong>Target Audience:</strong>\nParents\, Caregivers\, C
 ommunity Members\, Child-Serving Professionals\, Healthcare/Human Services
  Providers\, Faith Organizations\, Educators\, Business\n\n<strong>Cost:</
 strong>\nDuring April in honor of Child Abuse Prevention (CAP) Month...tra
 ining is FREE! \n\n<strong>Registration:</strong>\nRegistration is require
 d. To register\, please click 'register now' below. Once you have signed u
 p\, additional video conference instructions will be emailed to you. A fol
 low-up survey will be sent via email immediately following the training. I
 n order to receive a certificate of completion\, participants must complet
 e the initial follow-up survey. There is a minimum of people needed to con
 duct a training\, so please be aware that if there is low registration\, t
 his training may be canceled. If a training is canceled\, you may be resch
 eduled free of charge or may request a refund.
X-WR-RELCALID:bff66303f79caff58720a104e575049a
X-WR-TIMEZONE:America/New_York
BEGIN:VTIMEZONE
TZID:America/New_York
BEGIN:STANDARD
TZNAME:EST
DTSTART:20221106T020000
TZOFFSETFROM:-0400
TZOFFSETTO:-0500
RDATE:20231105T020000
END:STANDARD
BEGIN:DAYLIGHT
TZNAME:EDT
DTSTART:20230312T020000
TZOFFSETFROM:-0500
TZOFFSETTO:-0400
RDATE:20240310T020000
END:DAYLIGHT
END:VTIMEZONE
BEGIN:VEVENT
UID:64a636a3-bd6b-44a6-a53e-cb49c596e0d6
DTSTAMP:20260421T131159Z
DESCRIPTION:The purpose of this course is to increase understanding of Comm
 ercial Sexual Exploitation of Children (CSEC) and human trafficking and in
 crease knowledge of community resources available to victims. Participants
  will also understand the trauma\, abuse and victimization associated with
  commercial exploitation of children and become familiar with the warning 
 signs that trafficking victims may display.\n\n<strong>When:</strong>\nThi
 s is a two-hour long workshop\n• Wednesday\, April 19\, 2023 from 10:00am 
 to 12:00pm\n\n<strong>Target Audience:</strong>\nParents\, Caregivers\, Co
 mmunity Members\, Child-Serving Professionals\, Healthcare/Human Services 
 Providers\, Faith Organizations\, Educators\, Business\n\n<strong>Cost:</s
 trong>\nDuring April in honor of Child Abuse Prevention (CAP) Month...trai
 ning is FREE! \n\n<strong>Registration:</strong>\nRegistration is required
 . To register\, please click 'register now' below. Once you have signed up
 \, additional video conference instructions will be emailed to you. A foll
 ow-up survey will be sent via email immediately following the training. In
  order to receive a certificate of completion\, participants must complete
  the initial follow-up survey. There is a minimum of people needed to cond
 uct a training\, so please be aware that if there is low registration\, th
 is training may be canceled. If a training is canceled\, you may be resche
 duled free of charge or may request a refund.
DTSTART;TZID=America/New_York:20230419T100000
DTEND;TZID=America/New_York:20230419T120000
LOCATION:Virtually via Zoom
SUMMARY:Commercial Sexual Exploitation of Children Awareness Training
END:VEVENT
END:VCALENDAR
