BEGIN:VCALENDAR
VERSION:2.0
PRODID:-//georgiacenterforchildadvocacy.org//NONSGML kigkonsult.se iCalcrea
 tor 2.30.10//
CALSCALE:GREGORIAN
METHOD:PUBLISH
UID:99e0557c-3fd4-40ea-a333-2727dba9f0ae
X-WR-CALDESC:This workshop will provide general information on Youth with P
 roblematic Sexual Behavior\, including definitions\, statistics\, continuu
 m of sexual behavior\, key risk and protective factors\, important myths v
 s facts\, and current research. Facilitators will also discuss effective s
 upports for Youth with Problematic Sexual Behavior\, including the Georgia
  Center for Child Advocacy’s Leaps and Bounds program.\n\nWhen: Tuesday\, 
 April 18\, 2023 from 9:30am to 11:30am\n\nTarget Audience: Parents and Car
 egivers\n\nTopics covered include:\n- Concrete knowledge about Adverse Chi
 ldhood Experiences (ACEs) using Georgia data\n- Reactions to stress and te
 chniques for dealing with stress\n- Tools for strengthening the resilience
  of parents and children through relationships\n\n<strong>Cost:</strong>\n
 During April in honor of Child Abuse Prevention (CAP) Month...training is 
 FREE! \n\n<strong>Registration:</strong>\nRegistration is required. To reg
 ister\, please click 'register now' at the top of the page. Once you have 
 signed up\, additional video conference instructions will be emailed to yo
 u. A follow-up survey will be sent via email immediately following the tra
 ining. In order to receive a certificate of completion\, participants must
  complete the initial follow-up survey. There is a minimum of people neede
 d to conduct a training\, so please be aware that if there is low registra
 tion\, this training may be canceled.
X-WR-RELCALID:940eb4d21d1607227833952abf914f83
X-WR-TIMEZONE:America/New_York
BEGIN:VTIMEZONE
TZID:America/New_York
BEGIN:STANDARD
TZNAME:EST
DTSTART:20221106T020000
TZOFFSETFROM:-0400
TZOFFSETTO:-0500
RDATE:20231105T020000
END:STANDARD
BEGIN:DAYLIGHT
TZNAME:EDT
DTSTART:20230312T020000
TZOFFSETFROM:-0500
TZOFFSETTO:-0400
RDATE:20240310T020000
END:DAYLIGHT
END:VTIMEZONE
BEGIN:VEVENT
UID:ecc690fb-7aab-4215-99a0-7460fccb841b
DTSTAMP:20260421T131044Z
DESCRIPTION:This workshop will provide general information on Youth with Pr
 oblematic Sexual Behavior\, including definitions\, statistics\, continuum
  of sexual behavior\, key risk and protective factors\, important myths vs
  facts\, and current research. Facilitators will also discuss effective su
 pports for Youth with Problematic Sexual Behavior\, including the Georgia 
 Center for Child Advocacy’s Leaps and Bounds program.\n\nWhen: Tuesday\, A
 pril 18\, 2023 from 9:30am to 11:30am\n\nTarget Audience: Parents and Care
 givers\n\nTopics covered include:\n- Concrete knowledge about Adverse Chil
 dhood Experiences (ACEs) using Georgia data\n- Reactions to stress and tec
 hniques for dealing with stress\n- Tools for strengthening the resilience 
 of parents and children through relationships\n\n<strong>Cost:</strong>\nD
 uring April in honor of Child Abuse Prevention (CAP) Month...training is F
 REE! \n\n<strong>Registration:</strong>\nRegistration is required. To regi
 ster\, please click 'register now' at the top of the page. Once you have s
 igned up\, additional video conference instructions will be emailed to you
 . A follow-up survey will be sent via email immediately following the trai
 ning. In order to receive a certificate of completion\, participants must 
 complete the initial follow-up survey. There is a minimum of people needed
  to conduct a training\, so please be aware that if there is low registrat
 ion\, this training may be canceled.
DTSTART;TZID=America/New_York:20230418T093000
DTEND;TZID=America/New_York:20230418T113000
LOCATION:Virtually via Zoom
SUMMARY:Understanding and Supporting Youth with Problematic Sexual Behavior
 s
END:VEVENT
END:VCALENDAR
