BEGIN:VCALENDAR
VERSION:2.0
PRODID:-//georgiacenterforchildadvocacy.org//NONSGML kigkonsult.se iCalcrea
 tor 2.30.10//
CALSCALE:GREGORIAN
METHOD:PUBLISH
UID:96157794-e05e-4460-a435-0d9ce8b6ffea
X-WR-CALDESC:Child sexual abuse is an all-too-common\, widespread issue. Ma
 ny victims of child sexual abuse and exploitation live at home and attend 
 school. These children interact with family\, educators\, youth-serving or
 ganizations\, professionals\, and the community. Therefore\, awareness and
  prevention education are essential to protecting them. Because young peop
 le use digital technologies for everyday activities\, this presentation wi
 ll explain why internet safety matters\, the risks associated with interne
 t usage and how to teach them to protect themselves while online.\n\n<stro
 ng>When:</strong>\nFriday\, April 14\, 2023 from 10:00am to 11:00am\n\n<st
 rong>Cost:</strong>\nDuring April in honor of Child Abuse Prevention (CAP)
  Month...training is FREE! \n\n<strong>Registration:</strong>\nRegistratio
 n is required. To register\, please click 'register now' at the top of the
  page. Once you have signed up\, additional video conference instructions 
 will be emailed to you. A follow-up survey will be sent via email immediat
 ely following the training. In order to receive a certificate of completio
 n\, participants must complete the initial follow-up survey. There is a mi
 nimum of people needed to conduct a training\, so please be aware that if 
 there is low registration\, this training may be canceled.
X-WR-RELCALID:3c2632dac94f6fd369e1d28e139d3806
X-WR-TIMEZONE:America/New_York
BEGIN:VTIMEZONE
TZID:America/New_York
BEGIN:STANDARD
TZNAME:EST
DTSTART:20221106T020000
TZOFFSETFROM:-0400
TZOFFSETTO:-0500
RDATE:20231105T020000
END:STANDARD
BEGIN:DAYLIGHT
TZNAME:EDT
DTSTART:20230312T020000
TZOFFSETFROM:-0500
TZOFFSETTO:-0400
RDATE:20240310T020000
END:DAYLIGHT
END:VTIMEZONE
BEGIN:VEVENT
UID:d5296e5d-67c1-48c7-937b-0c708eb1f7fc
DTSTAMP:20260421T130522Z
DESCRIPTION:Child sexual abuse is an all-too-common\, widespread issue. Man
 y victims of child sexual abuse and exploitation live at home and attend s
 chool. These children interact with family\, educators\, youth-serving org
 anizations\, professionals\, and the community. Therefore\, awareness and 
 prevention education are essential to protecting them. Because young peopl
 e use digital technologies for everyday activities\, this presentation wil
 l explain why internet safety matters\, the risks associated with internet
  usage and how to teach them to protect themselves while online.\n\n<stron
 g>When:</strong>\nFriday\, April 14\, 2023 from 10:00am to 11:00am\n\n<str
 ong>Cost:</strong>\nDuring April in honor of Child Abuse Prevention (CAP) 
 Month...training is FREE! \n\n<strong>Registration:</strong>\nRegistration
  is required. To register\, please click 'register now' at the top of the 
 page. Once you have signed up\, additional video conference instructions w
 ill be emailed to you. A follow-up survey will be sent via email immediate
 ly following the training. In order to receive a certificate of completion
 \, participants must complete the initial follow-up survey. There is a min
 imum of people needed to conduct a training\, so please be aware that if t
 here is low registration\, this training may be canceled.
DTSTART;TZID=America/New_York:20230414T100000
DTEND;TZID=America/New_York:20230414T110000
LOCATION:Virtually via Zoom
SUMMARY:Internet Safety
END:VEVENT
END:VCALENDAR
