BEGIN:VCALENDAR
VERSION:2.0
PRODID:-//georgiacenterforchildadvocacy.org//NONSGML kigkonsult.se iCalcrea
 tor 2.30.10//
CALSCALE:GREGORIAN
METHOD:PUBLISH
UID:a5a8ceeb-747e-4ca8-b096-7ba38d535e00
X-WR-CALDESC:The Connections Matter Georgia Initiative is a collaboration b
 etween the Georgia Center for Child Advocacy and Prevent Child Abuse Georg
 ia focused on effectively educating communities about Adverse Childhood Ex
 periences (ACEs)\, trauma\, and resiliency. The Connections Matter Worksho
 p is an interactive discussion-based program that can be taken in either t
 wo days (2 hours each day) OR one day (4 hours) via virtual Zoom format. 
 \n\n<strong>When:</strong>\nThis is a 1-day workshop\, Thursday\, April 13
 \, 2023\, from 8:30am to 12:30pm.\n\n<strong>Target Audience:</strong>\nPa
 rents\, Caregivers\, Community Members\, Child-Serving Professionals\, Hea
 lthcare/Human Services Providers\, Faith Organizations\, Educators\, Busin
 ess\n\n<strong>Topics covered include:</strong>\n- Connection between trau
 ma\, brain development\, resilience\, and health\n- Concrete knowledge abo
 ut Adverse Childhood Experiences (ACEs) using Georgia data\n- Strategies f
 or increasing and improving your own connections\n- Tools for strengthenin
 g both personal and community resilience\n- Action planning and next steps
  for how you can make a difference\n- Resources on trauma-informed care an
 d implementation\n\n<strong>Cost:</strong>\n$20.00\, but in honor of Child
  Abuse Prevention Month it is FREE.\n\n<strong>Registration:</strong>\nReg
 istration is required. To register\, please click 'register now' at the to
 p of the page. Once you have signed up\, additional video conference instr
 uctions will be emailed to you. A follow-up survey will be sent via email 
 immediately following the training and again 3 months post-training.  In o
 rder to receive a certificate of completion\, participants must complete t
 he initial follow-up survey.
X-WR-RELCALID:d1518e9945c82cebd61e7d83f0c78ce5
X-WR-TIMEZONE:America/New_York
BEGIN:VTIMEZONE
TZID:America/New_York
BEGIN:STANDARD
TZNAME:EST
DTSTART:20221106T020000
TZOFFSETFROM:-0400
TZOFFSETTO:-0500
RDATE:20231105T020000
END:STANDARD
BEGIN:DAYLIGHT
TZNAME:EDT
DTSTART:20230312T020000
TZOFFSETFROM:-0500
TZOFFSETTO:-0400
RDATE:20240310T020000
END:DAYLIGHT
END:VTIMEZONE
BEGIN:VEVENT
UID:dca81a27-fc18-40f2-b8ee-6b32721122de
DTSTAMP:20260421T130555Z
DESCRIPTION:The Connections Matter Georgia Initiative is a collaboration be
 tween the Georgia Center for Child Advocacy and Prevent Child Abuse Georgi
 a focused on effectively educating communities about Adverse Childhood Exp
 eriences (ACEs)\, trauma\, and resiliency. The Connections Matter Workshop
  is an interactive discussion-based program that can be taken in either tw
 o days (2 hours each day) OR one day (4 hours) via virtual Zoom format. \n
 \n<strong>When:</strong>\nThis is a 1-day workshop\, Thursday\, April 13\,
  2023\, from 8:30am to 12:30pm.\n\n<strong>Target Audience:</strong>\nPare
 nts\, Caregivers\, Community Members\, Child-Serving Professionals\, Healt
 hcare/Human Services Providers\, Faith Organizations\, Educators\, Busines
 s\n\n<strong>Topics covered include:</strong>\n- Connection between trauma
 \, brain development\, resilience\, and health\n- Concrete knowledge about
  Adverse Childhood Experiences (ACEs) using Georgia data\n- Strategies for
  increasing and improving your own connections\n- Tools for strengthening 
 both personal and community resilience\n- Action planning and next steps f
 or how you can make a difference\n- Resources on trauma-informed care and 
 implementation\n\n<strong>Cost:</strong>\n$20.00\, but in honor of Child A
 buse Prevention Month it is FREE.\n\n<strong>Registration:</strong>\nRegis
 tration is required. To register\, please click 'register now' at the top 
 of the page. Once you have signed up\, additional video conference instruc
 tions will be emailed to you. A follow-up survey will be sent via email im
 mediately following the training and again 3 months post-training.  In ord
 er to receive a certificate of completion\, participants must complete the
  initial follow-up survey.
DTSTART;TZID=America/New_York:20230413T083000
DTEND;TZID=America/New_York:20230413T123000
LOCATION:Virtually via Zoom
SUMMARY:Virtual Connections Matter Workshop (1-Day Session)
END:VEVENT
END:VCALENDAR
