BEGIN:VCALENDAR
VERSION:2.0
PRODID:-//georgiacenterforchildadvocacy.org//NONSGML kigkonsult.se iCalcrea
 tor 2.30.10//
CALSCALE:GREGORIAN
METHOD:PUBLISH
UID:6cfb32cd-b24a-40e3-ab9e-1fb3e15ea1d0
X-WR-CALDESC:Mandated Reporter is an in-depth facilitator-led Mandated Repo
 rting training by Prevent Child Abuse (PCA) Georgia gives participants the
  ability to recognize\, react\, and report child maltreatment\, along with
  a scenario practice. The training can be provided in 1 1/2\, 2\, or 3 hou
 rs. \n\n<strong>When:</strong>\nWednesday\, April 12\, 2023 from 11:00am t
 o 12:30pm\n\n<strong>Target Audience:</strong>\nParents\, Caregivers\, Com
 munity Members\, Child-Serving Professionals\, Healthcare/Human Services P
 roviders\, Faith Organizations\, Educators\, Business\n\n\n<strong>Topics 
 covered include:</strong>\n- Identify which groups of children may be at h
 igher risk of being abused or neglected\n- Identify physical and behaviora
 l indicators child abuse and neglect in Georgia\n- Understand how the laws
  around mandated reporting affect mandated reporters\n- Describe the proce
 ss for handling a disclosure of abuse\n- Describe the mandated reporter’s 
 role and necessary steps in reporting suspected abuse and neglect\n\n<stro
 ng>Cost:</strong>\nDuring April in honor of Child Abuse Prevention (CAP) M
 onth...training is FREE! \n\n<strong>Registration:</strong>\nRegistration 
 is required. To register\, please click 'register now' at the top of the p
 age. Once you have signed up\, additional video conference instructions wi
 ll be emailed to you. A follow-up survey will be sent via email immediatel
 y following the training. In order to receive a certificate of completion\
 , participants must complete the initial follow-up survey. There is a mini
 mum of people needed to conduct a training\, so please be aware that if th
 ere is low registration\, this training may be canceled.
X-WR-RELCALID:6fdb4c830211bf47afd3155cd422ad24
X-WR-TIMEZONE:America/New_York
BEGIN:VTIMEZONE
TZID:America/New_York
BEGIN:STANDARD
TZNAME:EST
DTSTART:20221106T020000
TZOFFSETFROM:-0400
TZOFFSETTO:-0500
RDATE:20231105T020000
END:STANDARD
BEGIN:DAYLIGHT
TZNAME:EDT
DTSTART:20230312T020000
TZOFFSETFROM:-0500
TZOFFSETTO:-0400
RDATE:20240310T020000
END:DAYLIGHT
END:VTIMEZONE
BEGIN:VEVENT
UID:bfe6650a-3ca2-4ab8-9a07-766071d25cd8
DTSTAMP:20260421T130714Z
DESCRIPTION:Mandated Reporter is an in-depth facilitator-led Mandated Repor
 ting training by Prevent Child Abuse (PCA) Georgia gives participants the 
 ability to recognize\, react\, and report child maltreatment\, along with 
 a scenario practice. The training can be provided in 1 1/2\, 2\, or 3 hour
 s. \n\n<strong>When:</strong>\nWednesday\, April 12\, 2023 from 11:00am to
  12:30pm\n\n<strong>Target Audience:</strong>\nParents\, Caregivers\, Comm
 unity Members\, Child-Serving Professionals\, Healthcare/Human Services Pr
 oviders\, Faith Organizations\, Educators\, Business\n\n\n<strong>Topics c
 overed include:</strong>\n- Identify which groups of children may be at hi
 gher risk of being abused or neglected\n- Identify physical and behavioral
  indicators child abuse and neglect in Georgia\n- Understand how the laws 
 around mandated reporting affect mandated reporters\n- Describe the proces
 s for handling a disclosure of abuse\n- Describe the mandated reporter’s r
 ole and necessary steps in reporting suspected abuse and neglect\n\n<stron
 g>Cost:</strong>\nDuring April in honor of Child Abuse Prevention (CAP) Mo
 nth...training is FREE! \n\n<strong>Registration:</strong>\nRegistration i
 s required. To register\, please click 'register now' at the top of the pa
 ge. Once you have signed up\, additional video conference instructions wil
 l be emailed to you. A follow-up survey will be sent via email immediately
  following the training. In order to receive a certificate of completion\,
  participants must complete the initial follow-up survey. There is a minim
 um of people needed to conduct a training\, so please be aware that if the
 re is low registration\, this training may be canceled.
DTSTART;TZID=America/New_York:20230412T110000
DTEND;TZID=America/New_York:20230412T123000
LOCATION:Virtually via Zoom
SUMMARY:Mandated Reporter Training
END:VEVENT
END:VCALENDAR
