BEGIN:VCALENDAR
VERSION:2.0
PRODID:-//georgiacenterforchildadvocacy.org//NONSGML kigkonsult.se iCalcrea
 tor 2.30.10//
CALSCALE:GREGORIAN
METHOD:PUBLISH
UID:10eef319-8e8f-441b-bb89-b8fc4f12ab58
X-WR-CALDESC:Positive experiences can ease toxic stress and help children a
 nd youth grow into more resilient\, healthier adults. By attending the HOP
 E trainings you will learn about ways our communities and systems of care 
 can better ensure that all children have more positive experiences and tha
 t all families have support to nurture and celebrate their strengths.\n\n<
 strong>Cost:</strong>\nDuring April in honor of Child Abuse Prevention (CA
 P) Month...training is FREE! \n\n<strong>Registration:</strong>\nRegistrat
 ion is required. To register\, please click 'register now' at the top of t
 he page. Once you have signed up\, additional video conference instruction
 s will be emailed to you. A follow-up survey will be sent via email immedi
 ately following the training. In order to receive a certificate of complet
 ion\, participants must complete the initial follow-up survey. There is a 
 minimum of people needed to conduct a training\, so please be aware that i
 f there is low registration\, this training may be canceled.
X-WR-RELCALID:7c8e0769b20ef4184c7f0fed7b26abfc
X-WR-TIMEZONE:America/New_York
BEGIN:VTIMEZONE
TZID:America/New_York
BEGIN:STANDARD
TZNAME:EST
DTSTART:20221106T020000
TZOFFSETFROM:-0400
TZOFFSETTO:-0500
RDATE:20231105T020000
END:STANDARD
BEGIN:DAYLIGHT
TZNAME:EDT
DTSTART:20230312T020000
TZOFFSETFROM:-0500
TZOFFSETTO:-0400
RDATE:20240310T020000
END:DAYLIGHT
END:VTIMEZONE
BEGIN:VEVENT
UID:070109ca-891e-420e-89b7-30b7b8c5a2f0
DTSTAMP:20260421T131002Z
DESCRIPTION:Positive experiences can ease toxic stress and help children an
 d youth grow into more resilient\, healthier adults. By attending the HOPE
  trainings you will learn about ways our communities and systems of care c
 an better ensure that all children have more positive experiences and that
  all families have support to nurture and celebrate their strengths.\n\n<s
 trong>Cost:</strong>\nDuring April in honor of Child Abuse Prevention (CAP
 ) Month...training is FREE! \n\n<strong>Registration:</strong>\nRegistrati
 on is required. To register\, please click 'register now' at the top of th
 e page. Once you have signed up\, additional video conference instructions
  will be emailed to you. A follow-up survey will be sent via email immedia
 tely following the training. In order to receive a certificate of completi
 on\, participants must complete the initial follow-up survey. There is a m
 inimum of people needed to conduct a training\, so please be aware that if
  there is low registration\, this training may be canceled.
DTSTART;TZID=America/New_York:20230410T140000
DTEND;TZID=America/New_York:20230410T153000
LOCATION:Virtually via Zoom
SUMMARY:Healthy Outcomes from Positive Experiences (HOPE) Training
END:VEVENT
END:VCALENDAR
