BEGIN:VCALENDAR
VERSION:2.0
PRODID:-//georgiacenterforchildadvocacy.org//NONSGML kigkonsult.se iCalcrea
 tor 2.30.10//
CALSCALE:GREGORIAN
METHOD:PUBLISH
UID:392a2ceb-98f9-4785-b624-70a0c0290dce
X-WR-CALDESC:Positive experiences can ease toxic stress and help children a
 nd youth grow into more resilient\, healthier adults. By attending the HOP
 E trainings you will learn about ways our communities and systems of care 
 can better ensure that all children have more positive experiences and tha
 t all families have support to nurture and celebrate their strengths.\n\n<
 strong>When:</strong>\nFriday\, April 7th\, 2023 from 10:00am to 11:30am\n
 \n<strong>Cost:</strong>\nDuring April in honor of Child Abuse Prevention 
 (CAP) Month...training is FREE! \n\n<strong>Registration:</strong>\nRegist
 ration is required. To register\, please click 'register now' at the top o
 f the page. Once you have signed up\, additional video conference instruct
 ions will be emailed to you. A follow-up survey will be sent via email imm
 ediately following the training. In order to receive a certificate of comp
 letion\, participants must complete the initial follow-up survey. There is
  a minimum of people needed to conduct a training\, so please be aware tha
 t if there is low registration\, this training may be canceled.
X-WR-RELCALID:530d5431eb64e3e26b2373b6c2ea2554
X-WR-TIMEZONE:America/New_York
BEGIN:VTIMEZONE
TZID:America/New_York
BEGIN:STANDARD
TZNAME:EST
DTSTART:20221106T020000
TZOFFSETFROM:-0400
TZOFFSETTO:-0500
RDATE:20231105T020000
END:STANDARD
BEGIN:DAYLIGHT
TZNAME:EDT
DTSTART:20230312T020000
TZOFFSETFROM:-0500
TZOFFSETTO:-0400
RDATE:20240310T020000
END:DAYLIGHT
END:VTIMEZONE
BEGIN:VEVENT
UID:e331d7cc-4d43-42c0-ac40-c4e497ed68a7
DTSTAMP:20260421T125430Z
DESCRIPTION:Positive experiences can ease toxic stress and help children an
 d youth grow into more resilient\, healthier adults. By attending the HOPE
  trainings you will learn about ways our communities and systems of care c
 an better ensure that all children have more positive experiences and that
  all families have support to nurture and celebrate their strengths.\n\n<s
 trong>When:</strong>\nFriday\, April 7th\, 2023 from 10:00am to 11:30am\n
 \n<strong>Cost:</strong>\nDuring April in honor of Child Abuse Prevention 
 (CAP) Month...training is FREE! \n\n<strong>Registration:</strong>\nRegist
 ration is required. To register\, please click 'register now' at the top o
 f the page. Once you have signed up\, additional video conference instruct
 ions will be emailed to you. A follow-up survey will be sent via email imm
 ediately following the training. In order to receive a certificate of comp
 letion\, participants must complete the initial follow-up survey. There is
  a minimum of people needed to conduct a training\, so please be aware tha
 t if there is low registration\, this training may be canceled.
DTSTART;TZID=America/New_York:20230407T100000
DTEND;TZID=America/New_York:20230407T113000
LOCATION:Virtually via Zoom
SUMMARY:Healthy Outcomes from Positive Experiences (HOPE) Training
END:VEVENT
END:VCALENDAR
