BEGIN:VCALENDAR
VERSION:2.0
PRODID:-//georgiacenterforchildadvocacy.org//NONSGML kigkonsult.se iCalcrea
 tor 2.30.10//
CALSCALE:GREGORIAN
METHOD:PUBLISH
UID:08051540-5fd0-4030-8747-0cf549ded71e
X-WR-CALDESC:Through its statewide prevention initiative\, the Georgia Cent
 er for Child Advocacy presents Darkness to Light’s Stewards of Children\, 
 child abuse prevention training.\n\n<strong>Target Audience:</strong>\nSte
 wards of Children is for any responsible adult who cares about the protect
 ion of children\, whether a parent or professional. It is also used for in
 dividuals and organizations who seek training for staff and volunteers in 
 the prevention of child sexual abuse\, and to enhance their child protecti
 on policies and procedures.\n \nStewards of Children is a 2.5 hour prevent
 ion training program that teaches adults how to prevent\, recognize and re
 act responsibly to child sexual abuse. It is the only nationally distribut
 ed\, evidence-based program proven to increase knowledge\, improve attitud
 es and change child protection behaviors. \n\n<strong>Topics covered inclu
 de:</strong>\n-Facts about the problem of child sexual abuse\n-Types of si
 tuations in which child sexual abuse might occur\n-Simple and effective st
 rategies for protecting children from sexual abuse\n-The importance of tal
 king about the prevention of sexual abuse with children and other adults\n
 -Signs of sexual abuse so that you might intervene and be able to react re
 sponsibly\n\n<strong>Cost:</strong>\n$15.00\, but during April in honor of
  Child Abuse Prevention (CAP) Month...training is FREE! \n\n<strong>Regist
 ration:</strong>\nRegistration is required. To register\, please click 're
 gister now' at the top of the page. Once you have signed up\, additional v
 ideo conference instructions will be emailed to you. A follow-up survey wi
 ll be sent via email immediately following the training. In order to recei
 ve a certificate of completion\, participants must complete the initial fo
 llow-up survey. There is a minimum of people needed to conduct a training\
 , so please be aware that if there is low registration\, this training may
  be canceled. \n\n<strong>Continuing Education:</strong>\nThis program is 
 approved for 2 contact hours of continuing education by:\nThe National Ass
 ociation of Social Workers \nThe National Board for Certified Counselors\n
 Georgia Peace Officer Standards and Training (POST)\nBright From the Start
  for Childcare providers\nOhio Nurses Association\nEmergency Medical Servi
 ces
X-WR-RELCALID:741511c0813224662f01ea55d0daa6bb
X-WR-TIMEZONE:America/New_York
BEGIN:VTIMEZONE
TZID:America/New_York
BEGIN:STANDARD
TZNAME:EST
DTSTART:20221106T020000
TZOFFSETFROM:-0400
TZOFFSETTO:-0500
RDATE:20231105T020000
END:STANDARD
BEGIN:DAYLIGHT
TZNAME:EDT
DTSTART:20230312T020000
TZOFFSETFROM:-0500
TZOFFSETTO:-0400
RDATE:20240310T020000
END:DAYLIGHT
END:VTIMEZONE
BEGIN:VEVENT
UID:12cf8c99-0cb4-4e36-8709-be5bc52acdbf
DTSTAMP:20260421T131059Z
DESCRIPTION:Through its statewide prevention initiative\, the Georgia Cente
 r for Child Advocacy presents Darkness to Light’s Stewards of Children\, c
 hild abuse prevention training.\n\n<strong>Target Audience:</strong>\nStew
 ards of Children is for any responsible adult who cares about the protecti
 on of children\, whether a parent or professional. It is also used for ind
 ividuals and organizations who seek training for staff and volunteers in t
 he prevention of child sexual abuse\, and to enhance their child protectio
 n policies and procedures.\n \nStewards of Children is a 2.5 hour preventi
 on training program that teaches adults how to prevent\, recognize and rea
 ct responsibly to child sexual abuse. It is the only nationally distribute
 d\, evidence-based program proven to increase knowledge\, improve attitude
 s and change child protection behaviors. \n\n<strong>Topics covered includ
 e:</strong>\n-Facts about the problem of child sexual abuse\n-Types of sit
 uations in which child sexual abuse might occur\n-Simple and effective str
 ategies for protecting children from sexual abuse\n-The importance of talk
 ing about the prevention of sexual abuse with children and other adults\n-
 Signs of sexual abuse so that you might intervene and be able to react res
 ponsibly\n\n<strong>Cost:</strong>\n$15.00\, but during April in honor of 
 Child Abuse Prevention (CAP) Month...training is FREE! \n\n<strong>Registr
 ation:</strong>\nRegistration is required. To register\, please click 'reg
 ister now' at the top of the page. Once you have signed up\, additional vi
 deo conference instructions will be emailed to you. A follow-up survey wil
 l be sent via email immediately following the training. In order to receiv
 e a certificate of completion\, participants must complete the initial fol
 low-up survey. There is a minimum of people needed to conduct a training\,
  so please be aware that if there is low registration\, this training may 
 be canceled. \n\n<strong>Continuing Education:</strong>\nThis program is a
 pproved for 2 contact hours of continuing education by:\nThe National Asso
 ciation of Social Workers \nThe National Board for Certified Counselors\nG
 eorgia Peace Officer Standards and Training (POST)\nBright From the Start 
 for Childcare providers\nOhio Nurses Association\nEmergency Medical Servic
 es
DTSTART;TZID=America/New_York:20230406T100000
DTEND;TZID=America/New_York:20230406T123000
LOCATION:Virtually via Zoom
SUMMARY:Stewards of Children
END:VEVENT
END:VCALENDAR
