BEGIN:VCALENDAR
VERSION:2.0
PRODID:-//georgiacenterforchildadvocacy.org//NONSGML kigkonsult.se iCalcrea
 tor 2.30.10//
CALSCALE:GREGORIAN
METHOD:PUBLISH
UID:0d7a806d-f3f2-4f6e-9a34-ad7a9846aae1
X-WR-CALDESC:Resilience is often thought of as the ability to bounce back f
 rom a tough time. In this training we’re going to look at resilience as bo
 uncing forward. Parents frequently model resilience for their children. Ou
 r actions – no matter how small – can have a big impact on our children an
 d ultimately\, on our communities. This training will discuss our response
 s to stress\, the impacts stress can have\, and ways we can promote positi
 ve childhood experiences and create resilience through connection.\n\nWhen
 : Monday\, April 3rd\, 2023 from 12:00pm to 2:00pm.\n\nTarget Audience: Pa
 rents and Caregivers\n\nTopics covered include:\n- Concrete knowledge abou
 t Adverse Childhood Experiences (ACEs) using Georgia data\n- Reactions to 
 stress and techniques for dealing with stress\n- Tools for strengthening t
 he resilience of parents and children through relationships\n\n<strong>Cos
 t:</strong>\nDuring April in honor of Child Abuse Prevention (CAP) Month..
 .training is FREE! \n\n<strong>Registration:</strong>\nRegistration is req
 uired. To register\, please click 'register now' above. Once you have sign
 ed up\, additional video conference instructions will be emailed to you. A
  follow-up survey will be sent via email immediately following the trainin
 g. In order to receive a certificate of completion\, participants must com
 plete the initial follow-up survey. There is a minimum number of people ne
 eded to conduct a training\, so please be aware that if there is low regis
 tration\, this training may be canceled.
X-WR-RELCALID:5a2adcc293c9e844c2764c715b2e6c60
X-WR-TIMEZONE:America/New_York
BEGIN:VTIMEZONE
TZID:America/New_York
BEGIN:STANDARD
TZNAME:EST
DTSTART:20221106T020000
TZOFFSETFROM:-0400
TZOFFSETTO:-0500
RDATE:20231105T020000
END:STANDARD
BEGIN:DAYLIGHT
TZNAME:EDT
DTSTART:20230312T020000
TZOFFSETFROM:-0500
TZOFFSETTO:-0400
RDATE:20240310T020000
END:DAYLIGHT
END:VTIMEZONE
BEGIN:VEVENT
UID:bef29ccc-7425-473b-b840-d762f1c1e72b
DTSTAMP:20260421T130915Z
DESCRIPTION:Resilience is often thought of as the ability to bounce back fr
 om a tough time. In this training we’re going to look at resilience as bou
 ncing forward. Parents frequently model resilience for their children. Our
  actions – no matter how small – can have a big impact on our children and
  ultimately\, on our communities. This training will discuss our responses
  to stress\, the impacts stress can have\, and ways we can promote positiv
 e childhood experiences and create resilience through connection.\n\nWhen:
  Monday\, April 3rd\, 2023 from 12:00pm to 2:00pm.\n\nTarget Audience: Par
 ents and Caregivers\n\nTopics covered include:\n- Concrete knowledge about
  Adverse Childhood Experiences (ACEs) using Georgia data\n- Reactions to s
 tress and techniques for dealing with stress\n- Tools for strengthening th
 e resilience of parents and children through relationships\n\n<strong>Cost
 :</strong>\nDuring April in honor of Child Abuse Prevention (CAP) Month...
 training is FREE! \n\n<strong>Registration:</strong>\nRegistration is requ
 ired. To register\, please click 'register now' above. Once you have signe
 d up\, additional video conference instructions will be emailed to you. A 
 follow-up survey will be sent via email immediately following the training
 . In order to receive a certificate of completion\, participants must comp
 lete the initial follow-up survey. There is a minimum number of people nee
 ded to conduct a training\, so please be aware that if there is low regist
 ration\, this training may be canceled.
DTSTART;TZID=America/New_York:20230403T120000
DTEND;TZID=America/New_York:20230403T140000
LOCATION:Virtually via Zoom
SUMMARY:Becoming a More Resilient Parent
END:VEVENT
END:VCALENDAR
