BEGIN:VCALENDAR
VERSION:2.0
PRODID:-//georgiacenterforchildadvocacy.org//NONSGML kigkonsult.se iCalcrea
 tor 2.30.10//
CALSCALE:GREGORIAN
METHOD:PUBLISH
UID:44842802-ac46-423c-9c57-296494af10e4
X-WR-CALDESC:Mandated Reporter is an in-depth facilitator-led Mandated Repo
 rting training by Prevent Child Abuse (PCA) Georgia gives participants the
  ability to recognize\, react\, and report child maltreatment\, along with
  a scenario practice. The training can be provided in 1 1/2\, 2\, or 3 hou
 rs. \n\n<strong>When:</strong>\nThursday\, March 23rd\, 2023 from 10:30am 
 to 12:00pm\n\n<strong>Target Audience:</strong>\nParents\, Caregivers\, Co
 mmunity Members\, Child-Serving Professionals\, Healthcare/Human Services 
 Providers\, Faith Organizations\, Educators\, Business\n\n\n<strong>Topics
  covered include:</strong>\n- Identify which groups of children may be at 
 higher risk of being abused or neglected\n- Identify physical and behavior
 al indicators child abuse and neglect in Georgia\n- Understand how the law
 s around mandated reporting affect mandated reporters\n- Describe the proc
 ess for handling a disclosure of abuse\n- Describe the mandated reporter’s
  role and necessary steps in reporting suspected abuse and neglect\n\n<str
 ong>Cost:</strong>\nThere is no training cost for this training.\n\n<stron
 g>Registration:</strong>\nRegistration is required. To register\, please c
 lick 'register now' below. Once you have signed up\, additional video conf
 erence instructions will be emailed to you. A follow-up survey will be sen
 t via email immediately following the training. In order to receive a cert
 ificate of completion\, participants must complete the initial follow-up s
 urvey. There is a minimum of people needed to conduct a training\, so plea
 se be aware that if there is low registration\, this training may be cance
 led. If a training is canceled\, you may be rescheduled free of charge or 
 may request a refund.
X-WR-RELCALID:ef6aa0726b6db9e78c9b0b2827cd4fe2
X-WR-TIMEZONE:America/New_York
BEGIN:VTIMEZONE
TZID:America/New_York
BEGIN:STANDARD
TZNAME:EST
DTSTART:20221106T020000
TZOFFSETFROM:-0400
TZOFFSETTO:-0500
RDATE:20231105T020000
END:STANDARD
BEGIN:DAYLIGHT
TZNAME:EDT
DTSTART:20230312T020000
TZOFFSETFROM:-0500
TZOFFSETTO:-0400
RDATE:20240310T020000
END:DAYLIGHT
END:VTIMEZONE
BEGIN:VEVENT
UID:3a1a491b-fb3b-4e89-a18e-1ff52d3536f0
DTSTAMP:20260421T112849Z
DESCRIPTION:Mandated Reporter is an in-depth facilitator-led Mandated Repor
 ting training by Prevent Child Abuse (PCA) Georgia gives participants the 
 ability to recognize\, react\, and report child maltreatment\, along with 
 a scenario practice. The training can be provided in 1 1/2\, 2\, or 3 hour
 s. \n\n<strong>When:</strong>\nThursday\, March 23rd\, 2023 from 10:30am t
 o 12:00pm\n\n<strong>Target Audience:</strong>\nParents\, Caregivers\, Com
 munity Members\, Child-Serving Professionals\, Healthcare/Human Services P
 roviders\, Faith Organizations\, Educators\, Business\n\n\n<strong>Topics 
 covered include:</strong>\n- Identify which groups of children may be at h
 igher risk of being abused or neglected\n- Identify physical and behaviora
 l indicators child abuse and neglect in Georgia\n- Understand how the laws
  around mandated reporting affect mandated reporters\n- Describe the proce
 ss for handling a disclosure of abuse\n- Describe the mandated reporter’s 
 role and necessary steps in reporting suspected abuse and neglect\n\n<stro
 ng>Cost:</strong>\nThere is no training cost for this training.\n\n<strong
 >Registration:</strong>\nRegistration is required. To register\, please cl
 ick 'register now' below. Once you have signed up\, additional video confe
 rence instructions will be emailed to you. A follow-up survey will be sent
  via email immediately following the training. In order to receive a certi
 ficate of completion\, participants must complete the initial follow-up su
 rvey. There is a minimum of people needed to conduct a training\, so pleas
 e be aware that if there is low registration\, this training may be cancel
 ed. If a training is canceled\, you may be rescheduled free of charge or m
 ay request a refund.
DTSTART;TZID=America/New_York:20230323T103000
DTEND;TZID=America/New_York:20230323T120000
LOCATION:Virtually via Zoom
SUMMARY:Mandated Reporter Training
END:VEVENT
END:VCALENDAR
