BEGIN:VCALENDAR
VERSION:2.0
PRODID:-//georgiacenterforchildadvocacy.org//NONSGML kigkonsult.se iCalcrea
 tor 2.30.10//
CALSCALE:GREGORIAN
METHOD:PUBLISH
UID:d20454c1-9e80-4771-aa4a-2788c01384a5
X-WR-CALDESC:The Connections Matter Georgia Initiative is a collaboration b
 etween the Georgia Center for Child Advocacy and Prevent Child Abuse Georg
 ia focused on effectively educating communities about Adverse Childhood Ex
 periences (ACEs)\, trauma\, and resiliency. The Connections Matter Worksho
 p is an interactive discussion-based program that can be taken in either t
 wo days (2 hours each day) OR one day (4 hours) via virtual Zoom format. 
 \n\n<strong>When:</strong>\nThis is a 1-day workshop\, Wednesday\, Februar
 y 15\, 2023\, from 8:30 am to 12:30 pm.\n\n<strong>Target Audience:</stron
 g>\nParents\, Caregivers\, Community Members\, Child-Serving Professionals
 \, Healthcare/Human Services Providers\, Faith Organizations\, Educators\,
  Business\n\n<strong>Topics covered include:</strong>\n- Connection betwee
 n trauma\, brain development\, resilience\, and health\n- Concrete knowled
 ge about Adverse Childhood Experiences (ACEs) using Georgia data\n- Strate
 gies for increasing and improving your own connections\n- Tools for streng
 thening both personal and community resilience\n- Action planning and next
  steps for how you can make a difference\n- Resources on trauma-informed c
 are and implementation\n\n<strong>Cost:</strong>\n$20.00\n\n<strong>Regist
 ration:</strong>\nRegistration is required. To register\, please click 're
 gister now' below and select a ticket. Once you have signed up\, additiona
 l video conference instructions will be emailed to you. A follow-up survey
  will be sent via email immediately following the training and again 3 mon
 ths post-training.  In order to receive a certificate of completion\, part
 icipants must complete the initial follow-up survey.
X-WR-RELCALID:c7ca0e9fcc81895b54d1776a4b20df30
X-WR-TIMEZONE:America/New_York
BEGIN:VTIMEZONE
TZID:America/New_York
BEGIN:STANDARD
TZNAME:EST
DTSTART:20221106T020000
TZOFFSETFROM:-0400
TZOFFSETTO:-0500
RDATE:20231105T020000
END:STANDARD
BEGIN:DAYLIGHT
TZNAME:EDT
DTSTART:20220313T020000
TZOFFSETFROM:-0500
TZOFFSETTO:-0400
RDATE:20230312T020000
RDATE:20240310T020000
END:DAYLIGHT
END:VTIMEZONE
BEGIN:VEVENT
UID:b3568d33-cbee-47f6-b61c-96c564e30cb6
DTSTAMP:20260421T130833Z
DESCRIPTION:The Connections Matter Georgia Initiative is a collaboration be
 tween the Georgia Center for Child Advocacy and Prevent Child Abuse Georgi
 a focused on effectively educating communities about Adverse Childhood Exp
 eriences (ACEs)\, trauma\, and resiliency. The Connections Matter Workshop
  is an interactive discussion-based program that can be taken in either tw
 o days (2 hours each day) OR one day (4 hours) via virtual Zoom format. \n
 \n<strong>When:</strong>\nThis is a 1-day workshop\, Wednesday\, February 
 15\, 2023\, from 8:30 am to 12:30 pm.\n\n<strong>Target Audience:</strong>
 \nParents\, Caregivers\, Community Members\, Child-Serving Professionals\,
  Healthcare/Human Services Providers\, Faith Organizations\, Educators\, B
 usiness\n\n<strong>Topics covered include:</strong>\n- Connection between 
 trauma\, brain development\, resilience\, and health\n- Concrete knowledge
  about Adverse Childhood Experiences (ACEs) using Georgia data\n- Strategi
 es for increasing and improving your own connections\n- Tools for strength
 ening both personal and community resilience\n- Action planning and next s
 teps for how you can make a difference\n- Resources on trauma-informed car
 e and implementation\n\n<strong>Cost:</strong>\n$20.00\n\n<strong>Registra
 tion:</strong>\nRegistration is required. To register\, please click 'regi
 ster now' below and select a ticket. Once you have signed up\, additional 
 video conference instructions will be emailed to you. A follow-up survey w
 ill be sent via email immediately following the training and again 3 month
 s post-training.  In order to receive a certificate of completion\, partic
 ipants must complete the initial follow-up survey.
DTSTART;TZID=America/New_York:20230215T083000
DTEND;TZID=America/New_York:20230215T123000
LOCATION:Virtually via Zoom
SUMMARY:Virtual Connections Matter Workshop (1-Day Session)
END:VEVENT
END:VCALENDAR
