BEGIN:VCALENDAR
VERSION:2.0
PRODID:-//georgiacenterforchildadvocacy.org//NONSGML kigkonsult.se iCalcrea
 tor 2.30.10//
CALSCALE:GREGORIAN
METHOD:PUBLISH
UID:212a28f4-52ed-4567-8ee2-6ebccdeb4c24
X-WR-CALDESC:The purpose of this course is to increase understanding of Com
 mercial Sexual Exploitation of Children (CSEC) and human trafficking and i
 ncrease knowledge of community resources available to victims. Participant
 s will also understand the trauma\, abuse and victimization associated wit
 h commercial exploitation of children and become familiar with the warning
  signs that trafficking victims may display.\n\n<strong>When:</strong>\nTh
 is is a two hour-long workshop\n• Thursday\, January 12\, 2023 from 10:00a
 m to 12:00pm.\n\n<strong>Target Audience:</strong>\nParents\, Caregivers\,
  Community Members\, Child-Serving Professionals\, Healthcare/Human Servic
 es Providers\, Faith Organizations\, Educators\, Business\n\n<strong>Cost:
 </strong>\nFREE\n\n<strong>Registration:</strong>\nRegistration is require
 d. To register\, please click 'register now' below and select a ticket. On
 ce you have signed up\, additional video conference instructions will be e
 mailed to you. There is a minimum of people needed to conduct a training\,
  so please be aware that if there is low registration\, this training may 
 be canceled. If a training is canceled\, you may be rescheduled free of ch
 arge or may request a refund.
X-WR-RELCALID:331ba27d95dabc643f657b2c595f2858
X-WR-TIMEZONE:America/New_York
BEGIN:VTIMEZONE
TZID:America/New_York
BEGIN:STANDARD
TZNAME:EST
DTSTART:20221106T020000
TZOFFSETFROM:-0400
TZOFFSETTO:-0500
RDATE:20231105T020000
END:STANDARD
BEGIN:DAYLIGHT
TZNAME:EDT
DTSTART:20220313T020000
TZOFFSETFROM:-0500
TZOFFSETTO:-0400
RDATE:20230312T020000
RDATE:20240310T020000
END:DAYLIGHT
END:VTIMEZONE
BEGIN:VEVENT
UID:b3bd7666-a11d-4afe-92b6-94b477db6b0f
DTSTAMP:20260421T145553Z
DESCRIPTION:The purpose of this course is to increase understanding of Comm
 ercial Sexual Exploitation of Children (CSEC) and human trafficking and in
 crease knowledge of community resources available to victims. Participants
  will also understand the trauma\, abuse and victimization associated with
  commercial exploitation of children and become familiar with the warning 
 signs that trafficking victims may display.\n\n<strong>When:</strong>\nThi
 s is a two hour-long workshop\n• Thursday\, January 12\, 2023 from 10:00am
  to 12:00pm.\n\n<strong>Target Audience:</strong>\nParents\, Caregivers\, 
 Community Members\, Child-Serving Professionals\, Healthcare/Human Service
 s Providers\, Faith Organizations\, Educators\, Business\n\n<strong>Cost:<
 /strong>\nFREE\n\n<strong>Registration:</strong>\nRegistration is required
 . To register\, please click 'register now' below and select a ticket. Onc
 e you have signed up\, additional video conference instructions will be em
 ailed to you. There is a minimum of people needed to conduct a training\, 
 so please be aware that if there is low registration\, this training may b
 e canceled. If a training is canceled\, you may be rescheduled free of cha
 rge or may request a refund.
DTSTART;TZID=America/New_York:20230112T100000
DTEND;TZID=America/New_York:20230112T120000
LOCATION:Virtually via Zoom
SUMMARY:Commercial Sexual Exploitation of Children Awareness Training (Huma
 n Trafficking)
END:VEVENT
END:VCALENDAR
