BEGIN:VCALENDAR
VERSION:2.0
PRODID:-//georgiacenterforchildadvocacy.org//NONSGML kigkonsult.se iCalcrea
 tor 2.30.10//
CALSCALE:GREGORIAN
METHOD:PUBLISH
UID:bcc30082-2c55-4c9b-811e-6423c6cc6117
X-WR-CALDESC:This course teaches you how to talk with and listen to childre
 n about sexual abuse and personal safety. This mini course is a supplement
  to Stewards of Children\, a two-hour evidence-based course on preventing\
 , responding\, and reacting responsibly to child sexual abuse. This course
  is an hour long.\n\n<strong>When:</strong>\nThis is an hour-long workshop
 \nānā Thursday\, October 20\, 2022 from 12:00pm to 1:00pm\n\n<strong>Target 
 Audience:</strong>\nParents\, Caregivers\, Community Members\, Child-Servi
 ng Professionals\, Healthcare/Human Services Providers\, Faith Organizatio
 ns\, Educators\, Business\n\n<strong>Cost:</strong>\n$10.00\n\n<strong>Reg
 istration:</strong>\nRegistration is required. To register\, please click 
 'register now' below and select a ticket. Once you have signed up\, additi
 onal video conference instructions will be emailed to you. There is a mini
 mum of people needed to conduct a training\, so please be aware that if th
 ere is low registration\, this training may be canceled. If a training is 
 canceled\, you may be rescheduled free of charge or may request a refund.
X-WR-RELCALID:de60a9bd3a510f206bc265e529b134c3
X-WR-TIMEZONE:America/New_York
BEGIN:VTIMEZONE
TZID:America/New_York
BEGIN:STANDARD
TZNAME:EST
DTSTART:20211107T020000
TZOFFSETFROM:-0400
TZOFFSETTO:-0500
RDATE:20221106T020000
RDATE:20231105T020000
END:STANDARD
BEGIN:DAYLIGHT
TZNAME:EDT
DTSTART:20220313T020000
TZOFFSETFROM:-0500
TZOFFSETTO:-0400
RDATE:20230312T020000
RDATE:20240310T020000
END:DAYLIGHT
END:VTIMEZONE
BEGIN:VEVENT
UID:eeaa76d0-0ebc-406b-9192-25bfad6cf403
DTSTAMP:20260421T194822Z
DESCRIPTION:This course teaches you how to talk with and listen to children
  about sexual abuse and personal safety. This mini course is a supplement 
 to Stewards of Children\, a two-hour evidence-based course on preventing\,
  responding\, and reacting responsibly to child sexual abuse. This course 
 is an hour long.\n\n<strong>When:</strong>\nThis is an hour-long workshop
 \nānā Thursday\, October 20\, 2022 from 12:00pm to 1:00pm\n\n<strong>Target 
 Audience:</strong>\nParents\, Caregivers\, Community Members\, Child-Servi
 ng Professionals\, Healthcare/Human Services Providers\, Faith Organizatio
 ns\, Educators\, Business\n\n<strong>Cost:</strong>\n$10.00\n\n<strong>Reg
 istration:</strong>\nRegistration is required. To register\, please click 
 'register now' below and select a ticket. Once you have signed up\, additi
 onal video conference instructions will be emailed to you. There is a mini
 mum of people needed to conduct a training\, so please be aware that if th
 ere is low registration\, this training may be canceled. If a training is 
 canceled\, you may be rescheduled free of charge or may request a refund.
DTSTART;TZID=America/New_York:20221020T120000
DTEND;TZID=America/New_York:20221020T130000
LOCATION:Virtually via Zoom
SUMMARY:Talking with Children About Safety From Sexual Abuse
END:VEVENT
END:VCALENDAR
