BEGIN:VCALENDAR
VERSION:2.0
PRODID:-//georgiacenterforchildadvocacy.org//NONSGML kigkonsult.se iCalcrea
 tor 2.30.10//
CALSCALE:GREGORIAN
METHOD:PUBLISH
UID:2b1b8523-913b-4e37-a647-e942d2167787
X-WR-CALDESC:The Connections Matter Georgia Initiative is a collaboration b
 etween the Georgia Center for Child Advocacy and Prevent Child Abuse Georg
 ia focused on effectively educating communities about Adverse Childhood Ex
 periences (ACEs)\, trauma\, and resiliency. The Connections Matter Worksho
 p is an interactive discussion-based program that can be taken in either t
 wo days (2 hours each day) OR one day (4 hours) via virtual Zoom format. 
 \n\n<strong>When:</strong>\nThis is a 1-day workshop\, Wednesday\, October
  19\, 2022\, from 1:00 pm to 5:00 pm.\n\n<strong>Target Audience:</strong>
 \nParents\, Caregivers\, Community Members\, Child-Serving Professionals\,
  Healthcare/Human Services Providers\, Faith Organizations\, Educators\, B
 usiness\n\n<strong>Topics covered include:</strong>\n- Connection between 
 trauma\, brain development\, resilience\, and health\n- Concrete knowledge
  about Adverse Childhood Experiences (ACEs) using Georgia data\n- Strategi
 es for increasing and improving your own connections\n- Tools for strength
 ening both personal and community resilience\n- Action planning and next s
 teps for how you can make a difference\n- Resources on trauma-informed car
 e and implementation\n\n<strong>Cost:</strong>\n$20.00\n\n<strong>Registra
 tion:</strong>\nRegistration is required. To register\, please click 'regi
 ster now' below and select a ticket. Once you have signed up\, additional 
 video conference instructions will be emailed to you. A follow-up survey w
 ill be sent via email immediately following the training and again 3 month
 s post-training.  In order to receive a certificate of completion\, partic
 ipants must complete the initial follow-up survey.
X-WR-RELCALID:d027a9c1219dae679c00a0ba95ffcca3
X-WR-TIMEZONE:America/New_York
BEGIN:VTIMEZONE
TZID:America/New_York
BEGIN:STANDARD
TZNAME:EST
DTSTART:20211107T020000
TZOFFSETFROM:-0400
TZOFFSETTO:-0500
RDATE:20221106T020000
RDATE:20231105T020000
END:STANDARD
BEGIN:DAYLIGHT
TZNAME:EDT
DTSTART:20220313T020000
TZOFFSETFROM:-0500
TZOFFSETTO:-0400
RDATE:20230312T020000
RDATE:20240310T020000
END:DAYLIGHT
END:VTIMEZONE
BEGIN:VEVENT
UID:c668e12f-6d3f-48c1-ba1a-d6f35efea30a
DTSTAMP:20260421T194547Z
DESCRIPTION:The Connections Matter Georgia Initiative is a collaboration be
 tween the Georgia Center for Child Advocacy and Prevent Child Abuse Georgi
 a focused on effectively educating communities about Adverse Childhood Exp
 eriences (ACEs)\, trauma\, and resiliency. The Connections Matter Workshop
  is an interactive discussion-based program that can be taken in either tw
 o days (2 hours each day) OR one day (4 hours) via virtual Zoom format. \n
 \n<strong>When:</strong>\nThis is a 1-day workshop\, Wednesday\, October 1
 9\, 2022\, from 1:00 pm to 5:00 pm.\n\n<strong>Target Audience:</strong>\n
 Parents\, Caregivers\, Community Members\, Child-Serving Professionals\, H
 ealthcare/Human Services Providers\, Faith Organizations\, Educators\, Bus
 iness\n\n<strong>Topics covered include:</strong>\n- Connection between tr
 auma\, brain development\, resilience\, and health\n- Concrete knowledge a
 bout Adverse Childhood Experiences (ACEs) using Georgia data\n- Strategies
  for increasing and improving your own connections\n- Tools for strengthen
 ing both personal and community resilience\n- Action planning and next ste
 ps for how you can make a difference\n- Resources on trauma-informed care 
 and implementation\n\n<strong>Cost:</strong>\n$20.00\n\n<strong>Registrati
 on:</strong>\nRegistration is required. To register\, please click 'regist
 er now' below and select a ticket. Once you have signed up\, additional vi
 deo conference instructions will be emailed to you. A follow-up survey wil
 l be sent via email immediately following the training and again 3 months 
 post-training.  In order to receive a certificate of completion\, particip
 ants must complete the initial follow-up survey.
DTSTART;TZID=America/New_York:20221019T130000
DTEND;TZID=America/New_York:20221019T180000
LOCATION:Virtually via Zoom
SUMMARY:Virtual Connections Matter Workshop (1-Day Session)
END:VEVENT
END:VCALENDAR
