BEGIN:VCALENDAR
VERSION:2.0
PRODID:-//georgiacenterforchildadvocacy.org//NONSGML kigkonsult.se iCalcrea
 tor 2.30.10//
CALSCALE:GREGORIAN
METHOD:PUBLISH
UID:b0147727-33bf-40b1-be16-3bf9987cc1e0
X-WR-CALDESC:This course will teach you how to be an active bystander in ch
 ild sexual abuse prevention and response. You will receive examples of bou
 ndary violations and inappropriate behaviors and how you can make spontane
 ous and planned interventions that reinforce boundaries and protect childr
 en. This mini course is a supplement to Stewards of Children\, a two-hour 
 evidence-based course on preventing\, responding\, and reacting responsibl
 y to child sexual abuse. This course is an hour long.\n\n<strong>When:</st
 rong>\nThis is an hour-long  course.\n• Thursday\, October 6\, 2022 from 1
 2:00pm to 1:00pm\n\n<strong>Target Audience:</strong>\nParents\, Caregiver
 s\, Community Members\, Child-Serving Professionals\, Healthcare/Human Ser
 vices Providers\, Faith Organizations\, Educators\, Business\n\n<strong>Co
 st:</strong>\n$10.00\n\n<strong>Registration:</strong>\nRegistration is re
 quired. To register\, please click 'register now' below and select a ticke
 t. Once you have signed up\, additional video conference instructions will
  be emailed to you.
X-WR-RELCALID:767d5969b4e263478c8b498074cd4af8
X-WR-TIMEZONE:America/New_York
BEGIN:VTIMEZONE
TZID:America/New_York
BEGIN:STANDARD
TZNAME:EST
DTSTART:20211107T020000
TZOFFSETFROM:-0400
TZOFFSETTO:-0500
RDATE:20221106T020000
RDATE:20231105T020000
END:STANDARD
BEGIN:DAYLIGHT
TZNAME:EDT
DTSTART:20220313T020000
TZOFFSETFROM:-0500
TZOFFSETTO:-0400
RDATE:20230312T020000
RDATE:20240310T020000
END:DAYLIGHT
END:VTIMEZONE
BEGIN:VEVENT
UID:e197f0dd-6deb-4fa5-afee-772d20d123c3
DTSTAMP:20260421T194704Z
DESCRIPTION:This course will teach you how to be an active bystander in chi
 ld sexual abuse prevention and response. You will receive examples of boun
 dary violations and inappropriate behaviors and how you can make spontaneo
 us and planned interventions that reinforce boundaries and protect childre
 n. This mini course is a supplement to Stewards of Children\, a two-hour e
 vidence-based course on preventing\, responding\, and reacting responsibly
  to child sexual abuse. This course is an hour long.\n\n<strong>When:</str
 ong>\nThis is an hour-long  course.\n• Thursday\, October 6\, 2022 from 12
 :00pm to 1:00pm\n\n<strong>Target Audience:</strong>\nParents\, Caregivers
 \, Community Members\, Child-Serving Professionals\, Healthcare/Human Serv
 ices Providers\, Faith Organizations\, Educators\, Business\n\n<strong>Cos
 t:</strong>\n$10.00\n\n<strong>Registration:</strong>\nRegistration is req
 uired. To register\, please click 'register now' below and select a ticket
 . Once you have signed up\, additional video conference instructions will 
 be emailed to you.
DTSTART;TZID=America/New_York:20221006T120000
DTEND;TZID=America/New_York:20221006T140000
LOCATION:Virtually via Zoom
SUMMARY:Protecting Children Through Active Bystanding
END:VEVENT
END:VCALENDAR
