BEGIN:VCALENDAR
VERSION:2.0
PRODID:-//georgiacenterforchildadvocacy.org//NONSGML kigkonsult.se iCalcrea
 tor 2.30.10//
CALSCALE:GREGORIAN
METHOD:PUBLISH
UID:0ef768fe-f641-40f3-81ab-1a150028bd89
X-WR-CALDESC:Resilience is often thought of as the ability to bounce back f
 rom a tough time. In this training we’re going to look at resilience as bo
 uncing forward. Parents frequently model resilience for their children. Ou
 r actions – no matter how small – can have a big impact on our children an
 d ultimately\, on our communities. This training will discuss our response
 s to stress\, the impacts stress can have\, and ways we can promote positi
 ve childhood experiences and create resilience through connection.\n\nWhen
 : Monday\, October 3\, 2022 from 12:00pm to 2:00pm.\n\nTarget Audience: Pa
 rents and Caregivers\n\nTopics covered include:\n- Concrete knowledge abou
 t Adverse Childhood Experiences (ACEs) using Georgia data\n- Reactions to 
 stress and techniques for dealing with stress\n- Tools for strengthening t
 he resilience of parents and children through relationships\n\nCost: Free
 \n\nRegistration:\nRegistration is required. To register\, please click 'r
 egister now' below. Once you have signed up\, additional video conference 
 instructions will be emailed to you. A follow-up survey will be sent via e
 mail immediately following the training. In order to receive a certificate
  of completion\, participants must complete the initial follow-up survey. 
 There is a minimum of people needed to conduct a training\, so please be a
 ware that if there is low registration\, this training may be canceled. If
  a training is canceled\, you may be rescheduled free of charge or may req
 uest a refund.
X-WR-RELCALID:2db2ea7733a7a453888704cb2da0f544
X-WR-TIMEZONE:America/New_York
BEGIN:VTIMEZONE
TZID:America/New_York
BEGIN:STANDARD
TZNAME:EST
DTSTART:20211107T020000
TZOFFSETFROM:-0400
TZOFFSETTO:-0500
RDATE:20221106T020000
RDATE:20231105T020000
END:STANDARD
BEGIN:DAYLIGHT
TZNAME:EDT
DTSTART:20220313T020000
TZOFFSETFROM:-0500
TZOFFSETTO:-0400
RDATE:20230312T020000
RDATE:20240310T020000
END:DAYLIGHT
END:VTIMEZONE
BEGIN:VEVENT
UID:084140d7-b077-4d1b-873a-28fa2a8c2da6
DTSTAMP:20260421T100106Z
DESCRIPTION:Resilience is often thought of as the ability to bounce back fr
 om a tough time. In this training we’re going to look at resilience as bou
 ncing forward. Parents frequently model resilience for their children. Our
  actions – no matter how small – can have a big impact on our children and
  ultimately\, on our communities. This training will discuss our responses
  to stress\, the impacts stress can have\, and ways we can promote positiv
 e childhood experiences and create resilience through connection.\n\nWhen:
  Monday\, October 3\, 2022 from 12:00pm to 2:00pm.\n\nTarget Audience: Par
 ents and Caregivers\n\nTopics covered include:\n- Concrete knowledge about
  Adverse Childhood Experiences (ACEs) using Georgia data\n- Reactions to s
 tress and techniques for dealing with stress\n- Tools for strengthening th
 e resilience of parents and children through relationships\n\nCost: Free\n
 \nRegistration:\nRegistration is required. To register\, please click 'reg
 ister now' below. Once you have signed up\, additional video conference in
 structions will be emailed to you. A follow-up survey will be sent via ema
 il immediately following the training. In order to receive a certificate o
 f completion\, participants must complete the initial follow-up survey. Th
 ere is a minimum of people needed to conduct a training\, so please be awa
 re that if there is low registration\, this training may be canceled. If a
  training is canceled\, you may be rescheduled free of charge or may reque
 st a refund.
DTSTART;TZID=America/New_York:20221003T120000
DTEND;TZID=America/New_York:20221003T140000
LOCATION:Virtually via Zoom
SUMMARY:Becoming a More Resilient Parent
END:VEVENT
END:VCALENDAR
