BEGIN:VCALENDAR
VERSION:2.0
PRODID:-//georgiacenterforchildadvocacy.org//NONSGML kigkonsult.se iCalcrea
 tor 2.30.10//
CALSCALE:GREGORIAN
METHOD:PUBLISH
UID:96f574ea-88f2-4e78-9a67-e9db9b86d4ef
X-WR-CALDESC:Broken Places explores why some children are severely damaged 
 by early adversity while others are able to thrive. By revisiting some of 
 the abused and neglected children we profiled decades ago\, we’re able to 
 dramatically illustrate how early trauma shaped their lives as adults. Bro
 ken Places interweaves these longitudinal narratives with commentary from 
 a few nationally renowned experts to help viewers better understand the de
 vastating impact of childhood adversity as well as the inspiring character
 istics of resilience.\n\n<strong>When:</strong>\nThis is a 2-hour screenin
 g.\n• Friday\, July \, 2021 from 9:30am to 11:30am\n\n<strong>Target Audie
 nce:</strong>\nParents\, Caregivers\, Community Members\, Child-Serving Pr
 ofessionals\, Healthcare/Human Services Providers\, Faith Organizations\, 
 Educators\, Business\n\n<strong>Cost:</strong>\n\n\n<strong>Registration:<
 /strong>\nRegistration is required.
X-WR-RELCALID:9924ec89c64b9f1a5471ba7345c48123
X-WR-TIMEZONE:America/New_York
BEGIN:VTIMEZONE
TZID:America/New_York
BEGIN:STANDARD
TZNAME:EST
DTSTART:20201101T020000
TZOFFSETFROM:-0400
TZOFFSETTO:-0500
RDATE:20211107T020000
RDATE:20221106T020000
END:STANDARD
BEGIN:DAYLIGHT
TZNAME:EDT
DTSTART:20210314T020000
TZOFFSETFROM:-0500
TZOFFSETTO:-0400
RDATE:20220313T020000
END:DAYLIGHT
END:VTIMEZONE
BEGIN:VEVENT
UID:96c0faa4-d8c0-4848-b043-c10e377931c8
DTSTAMP:20260424T082815Z
DESCRIPTION:Broken Places explores why some children are severely damaged b
 y early adversity while others are able to thrive. By revisiting some of t
 he abused and neglected children we profiled decades ago\, we’re able to d
 ramatically illustrate how early trauma shaped their lives as adults. Brok
 en Places interweaves these longitudinal narratives with commentary from a
  few nationally renowned experts to help viewers better understand the dev
 astating impact of childhood adversity as well as the inspiring characteri
 stics of resilience.\n\n<strong>When:</strong>\nThis is a 2-hour screening
 .\n• Friday\, July \, 2021 from 9:30am to 11:30am\n\n<strong>Target Audien
 ce:</strong>\nParents\, Caregivers\, Community Members\, Child-Serving Pro
 fessionals\, Healthcare/Human Services Providers\, Faith Organizations\, E
 ducators\, Business\n\n<strong>Cost:</strong>\n\n\n<strong>Registration:</
 strong>\nRegistration is required.
DTSTART;TZID=America/New_York:20210709T093000
DTEND;TZID=America/New_York:20210709T113000
LOCATION:Virtual
SUMMARY:Broken Places Screening
END:VEVENT
END:VCALENDAR
