BEGIN:VCALENDAR
VERSION:2.0
PRODID:-//georgiacenterforchildadvocacy.org//NONSGML kigkonsult.se iCalcrea
 tor 2.30.10//
CALSCALE:GREGORIAN
METHOD:PUBLISH
UID:44783b4b-3a37-4d34-b7c6-0cb7bde70b09
X-WR-CALDESC:The Connections Matter Georgia Initiative is a collaboration b
 etween the Georgia Center for Child Advocacy and Prevent Child Abuse Georg
 ia focused on effectively educating communities about Adverse Childhood Ex
 periences (ACEs)\, trauma\, and resiliency. The Connections Matter Worksho
 p is an interactive discussion-based program that can be taken in either t
 wo days (2 hours each day) OR one day (4 hours) via virtual Zoom format. 
 \n\n<strong>When:</strong>\nThis is a 1-day\, 4-hour workshop\n• Thursday\
 , April 15\, 2021\n\n<strong>Target Audience:</strong>\nParents\, Caregive
 rs\, Community Members\, Child-Serving Professionals\, Healthcare/Human Se
 rvices Providers\, Faith Organizations\, Educators\, Business\n\n<strong>T
 opics covered include:</strong>\n- Connection between trauma\, brain devel
 opment\, resilience\, and health\n- Concrete knowledge about Adverse Child
 hood Experiences (ACEs) using Georgia data\n- Strategies for increasing an
 d improving your own connections\n- Tools for strengthening both personal 
 and community resilience\n- Action planning and next steps for how you can
  make a difference\n- Resources on trauma-informed care and implementation
 \n\n<strong>Cost:</strong>\n$20.00\, but during April in honor of Child Ab
 use Prevention (CAP) Month...training is FREE!\n\n<strong>Registration:</s
 trong>\nRegistration is required. To register\, please click 'register now
 ' below and select a ticket. Once you have signed up\, additional video co
 nference instructions will be emailed to you.  A follow-up survey will be 
 sent via email immediately following the training and again 3 months post-
 training.  In order to receive a certificate of completion\, participants 
 must complete the initial follow-up survey.
X-WR-RELCALID:55c877d554b8eea41425cd0d0c18dac7
X-WR-TIMEZONE:America/New_York
BEGIN:VTIMEZONE
TZID:America/New_York
BEGIN:STANDARD
TZNAME:EST
DTSTART:20201101T020000
TZOFFSETFROM:-0400
TZOFFSETTO:-0500
RDATE:20211107T020000
END:STANDARD
BEGIN:DAYLIGHT
TZNAME:EDT
DTSTART:20210314T020000
TZOFFSETFROM:-0500
TZOFFSETTO:-0400
RDATE:20220313T020000
END:DAYLIGHT
END:VTIMEZONE
BEGIN:VEVENT
UID:38c637ad-2817-4419-812d-4fe743c3ef52
DTSTAMP:20260423T035021Z
DESCRIPTION:The Connections Matter Georgia Initiative is a collaboration be
 tween the Georgia Center for Child Advocacy and Prevent Child Abuse Georgi
 a focused on effectively educating communities about Adverse Childhood Exp
 eriences (ACEs)\, trauma\, and resiliency. The Connections Matter Workshop
  is an interactive discussion-based program that can be taken in either tw
 o days (2 hours each day) OR one day (4 hours) via virtual Zoom format. \n
 \n<strong>When:</strong>\nThis is a 1-day\, 4-hour workshop\n• Thursday\, 
 April 15\, 2021\n\n<strong>Target Audience:</strong>\nParents\, Caregivers
 \, Community Members\, Child-Serving Professionals\, Healthcare/Human Serv
 ices Providers\, Faith Organizations\, Educators\, Business\n\n<strong>Top
 ics covered include:</strong>\n- Connection between trauma\, brain develop
 ment\, resilience\, and health\n- Concrete knowledge about Adverse Childho
 od Experiences (ACEs) using Georgia data\n- Strategies for increasing and 
 improving your own connections\n- Tools for strengthening both personal an
 d community resilience\n- Action planning and next steps for how you can m
 ake a difference\n- Resources on trauma-informed care and implementation\n
 \n<strong>Cost:</strong>\n$20.00\, but during April in honor of Child Abus
 e Prevention (CAP) Month...training is FREE!\n\n<strong>Registration:</str
 ong>\nRegistration is required. To register\, please click 'register now' 
 below and select a ticket. Once you have signed up\, additional video conf
 erence instructions will be emailed to you.  A follow-up survey will be se
 nt via email immediately following the training and again 3 months post-tr
 aining.  In order to receive a certificate of completion\, participants mu
 st complete the initial follow-up survey.
DTSTART;TZID=America/New_York:20210415T120000
DTEND;TZID=America/New_York:20210415T160000
LOCATION:Virtually via Zoom
SUMMARY:Virtual Connections Matter Workshop (1-Day Session)
END:VEVENT
END:VCALENDAR
