BEGIN:VCALENDAR
VERSION:2.0
PRODID:-//georgiacenterforchildadvocacy.org//NONSGML kigkonsult.se iCalcrea
 tor 2.30.10//
CALSCALE:GREGORIAN
METHOD:PUBLISH
UID:86f1fb2a-4502-47a7-8fb4-c0b6d74225bd
X-WR-CALDESC:The Connections Matter Georgia Initiative is a collaboration b
 etween the Georgia Center for Child Advocacy and Prevent Child Abuse Georg
 ia focused on effectively educating communities about Adverse Childhood Ex
 periences (ACEs)\, trauma\, and resiliency. The Connections Matter Worksho
 p is an interactive discussion-based program that can be taken in either t
 wo days (2 hours each day) OR one day (4 hours) via virtual Zoom format. 
 \n\n<strong>When:</strong>\nThis is a 2-day workshop\, both days are REQUI
 RED from 9:30 am – 11:30 am\n• Wednesday\, April 7\, 2021\n• Thursday\, Ap
 ril 8\, 2021\n\n<strong>Target Audience:</strong>\nParents\, Caregivers\, 
 Community Members\, Child-Serving Professionals\, Healthcare/Human Service
 s Providers\, Faith Organizations\, Educators\, Business\n\n<strong>Topics
  covered include:</strong>\n- Connection between trauma\, brain developmen
 t\, resilience\, and health\n- Concrete knowledge about Adverse Childhood 
 Experiences (ACEs) using Georgia data\n- Strategies for increasing and imp
 roving your own connections\n- Tools for strengthening both personal and c
 ommunity resilience\n- Action planning and next steps for how you can make
  a difference\n- Resources on trauma-informed care and implementation\n\n<
 strong>Cost:</strong>\n$20.00\, but during April in honor of Child Abuse P
 revention (CAP) Month...training is FREE!\n\n<strong>Registration:</strong
 >\nRegistration is required. To register\, please click 'register now' bel
 ow and select a ticket. Once you have signed up\, additional video confere
 nce instructions will be emailed to you.  A follow-up survey will be sent 
 via email immediately following the training and again 3 months post-train
 ing.  In order to receive a certificate of completion\, participants must 
 complete the initial follow-up survey.
X-WR-RELCALID:ec808fb24181779ec50f68897d32a8bb
X-WR-TIMEZONE:America/New_York
BEGIN:VTIMEZONE
TZID:America/New_York
BEGIN:STANDARD
TZNAME:EST
DTSTART:20201101T020000
TZOFFSETFROM:-0400
TZOFFSETTO:-0500
RDATE:20211107T020000
END:STANDARD
BEGIN:DAYLIGHT
TZNAME:EDT
DTSTART:20210314T020000
TZOFFSETFROM:-0500
TZOFFSETTO:-0400
RDATE:20220313T020000
END:DAYLIGHT
END:VTIMEZONE
BEGIN:VEVENT
UID:7cd49d6a-5ad0-42ad-b453-e5ee649571d3
DTSTAMP:20260421T073721Z
DESCRIPTION:The Connections Matter Georgia Initiative is a collaboration be
 tween the Georgia Center for Child Advocacy and Prevent Child Abuse Georgi
 a focused on effectively educating communities about Adverse Childhood Exp
 eriences (ACEs)\, trauma\, and resiliency. The Connections Matter Workshop
  is an interactive discussion-based program that can be taken in either tw
 o days (2 hours each day) OR one day (4 hours) via virtual Zoom format. \n
 \n<strong>When:</strong>\nThis is a 2-day workshop\, both days are REQUIRE
 D from 9:30 am – 11:30 am\n• Wednesday\, April 7\, 2021\n• Thursday\, Apri
 l 8\, 2021\n\n<strong>Target Audience:</strong>\nParents\, Caregivers\, Co
 mmunity Members\, Child-Serving Professionals\, Healthcare/Human Services 
 Providers\, Faith Organizations\, Educators\, Business\n\n<strong>Topics c
 overed include:</strong>\n- Connection between trauma\, brain development\
 , resilience\, and health\n- Concrete knowledge about Adverse Childhood Ex
 periences (ACEs) using Georgia data\n- Strategies for increasing and impro
 ving your own connections\n- Tools for strengthening both personal and com
 munity resilience\n- Action planning and next steps for how you can make a
  difference\n- Resources on trauma-informed care and implementation\n\n<st
 rong>Cost:</strong>\n$20.00\, but during April in honor of Child Abuse Pre
 vention (CAP) Month...training is FREE!\n\n<strong>Registration:</strong>
 \nRegistration is required. To register\, please click 'register now' belo
 w and select a ticket. Once you have signed up\, additional video conferen
 ce instructions will be emailed to you.  A follow-up survey will be sent v
 ia email immediately following the training and again 3 months post-traini
 ng.  In order to receive a certificate of completion\, participants must c
 omplete the initial follow-up survey.
DTSTART;TZID=America/New_York:20210407T093000
DTEND;TZID=America/New_York:20210407T113000
LOCATION:Virtually via Zoom
SUMMARY:Virtual Connections Matter Workshop (2-Day Session)
END:VEVENT
END:VCALENDAR
