BEGIN:VCALENDAR
VERSION:2.0
PRODID:-//georgiacenterforchildadvocacy.org//NONSGML kigkonsult.se iCalcrea
 tor 2.30.10//
CALSCALE:GREGORIAN
METHOD:PUBLISH
UID:5ddc1d7b-3e22-4500-b167-d5e88365d323
X-WR-CALDESC:Richmont Graduate University (RGU) is pleased to offer the Ste
 wards of Children training\; the nationally recognized child sexual abuse 
 prevention program on January 27th\, 2017. \n\n<strong>Target Audience:</s
 trong>\nStewards of Children is for any responsible adult who cares about 
 the protection of children\, whether a parent or professional. It is also 
 used for individuals and organizations who seek training for staff and vol
 unteers in the prevention of child sexual abuse\, and to enhance their chi
 ld protection policies and procedures.\n \nStewards of Children is a 2 hou
 r prevention training program that teaches adults how to prevent\, recogni
 ze and react responsibly to child sexual abuse. It is the only nationally 
 distributed\, evidence-based program proven to increase knowledge\, improv
 e attitudes and change child protection behaviors. \n\n<strong>Topics cove
 red include:</strong>\n-Facts about the problem of child sexual abuse\n-Ty
 pes of situations in which child sexual abuse might occur\n-Simple and eff
 ective strategies for protecting children from sexual abuse\n-The importan
 ce of talking about the prevention of sexual abuse with children and other
  adults\n-Signs of sexual abuse so that you might intervene and be able to
  react responsibly\n\n<strong>Cost:</strong>\n$15.00\n\n<strong>Registrati
 on:</strong>\nRegistration is required. To register\, please email <b>Mart
 ha Busby</b>\, Richmont Graduate University Director of Alumni & Career Se
 rvices (contact information below).\n\n<strong>Continuing Education:</stro
 ng>\nThis program is approved for 2 contact hours of continuing education 
 by:\nThe National Association of Social Workers \nThe National Board for C
 ertified Counselors\nGeorgia Peace Officer Standards and Training (POST)\n
 Bright From the Start for Childcare providers\nOhio Nurses Association\nEm
 ergency Medical Services\nGeorgia Bar Association\n
X-WR-RELCALID:d3aa331879a553bd012d87a14f24f93f
X-WR-TIMEZONE:America/New_York
BEGIN:VTIMEZONE
TZID:America/New_York
BEGIN:STANDARD
TZNAME:EST
DTSTART:20161106T020000
TZOFFSETFROM:-0400
TZOFFSETTO:-0500
RDATE:20171105T020000
END:STANDARD
BEGIN:DAYLIGHT
TZNAME:EDT
DTSTART:20160313T020000
TZOFFSETFROM:-0500
TZOFFSETTO:-0400
RDATE:20170312T020000
RDATE:20180311T020000
END:DAYLIGHT
END:VTIMEZONE
BEGIN:VEVENT
UID:3465b03c-9887-492d-975a-c7f442437357
DTSTAMP:20260423T155154Z
DESCRIPTION:Richmont Graduate University (RGU) is pleased to offer the Stew
 ards of Children training\; the nationally recognized child sexual abuse p
 revention program on January 27th\, 2017. \n\n<strong>Target Audience:</st
 rong>\nStewards of Children is for any responsible adult who cares about t
 he protection of children\, whether a parent or professional. It is also u
 sed for individuals and organizations who seek training for staff and volu
 nteers in the prevention of child sexual abuse\, and to enhance their chil
 d protection policies and procedures.\n \nStewards of Children is a 2 hour
  prevention training program that teaches adults how to prevent\, recogniz
 e and react responsibly to child sexual abuse. It is the only nationally d
 istributed\, evidence-based program proven to increase knowledge\, improve
  attitudes and change child protection behaviors. \n\n<strong>Topics cover
 ed include:</strong>\n-Facts about the problem of child sexual abuse\n-Typ
 es of situations in which child sexual abuse might occur\n-Simple and effe
 ctive strategies for protecting children from sexual abuse\n-The importanc
 e of talking about the prevention of sexual abuse with children and other 
 adults\n-Signs of sexual abuse so that you might intervene and be able to 
 react responsibly\n\n<strong>Cost:</strong>\n$15.00\n\n<strong>Registratio
 n:</strong>\nRegistration is required. To register\, please email <b>Marth
 a Busby</b>\, Richmont Graduate University Director of Alumni & Career Ser
 vices (contact information below).\n\n<strong>Continuing Education:</stron
 g>\nThis program is approved for 2 contact hours of continuing education b
 y:\nThe National Association of Social Workers \nThe National Board for Ce
 rtified Counselors\nGeorgia Peace Officer Standards and Training (POST)\nB
 right From the Start for Childcare providers\nOhio Nurses Association\nEme
 rgency Medical Services\nGeorgia Bar Association\n
DTSTART;TZID=America/New_York:20170127T110000
DTEND;TZID=America/New_York:20170127T130000
LOCATION:Richmont Chapel\, Richmont Graduate University\, 1900 The Exchange
  Southeast\, #100\, Atlanta\, GA 30339
SUMMARY:Stewards of Children Training @ Richmont Graduate University
END:VEVENT
END:VCALENDAR
