BEGIN:VCALENDAR
VERSION:2.0
PRODID:-//georgiacenterforchildadvocacy.org//NONSGML kigkonsult.se iCalcrea
 tor 2.30.10//
CALSCALE:GREGORIAN
METHOD:PUBLISH
UID:6996eaac-2189-4603-afec-0238a119ddfa
X-WR-CALDESC:Please join us for a tour of our Center – meet our CEO and sta
 ff!\n\nAt this FREE\, 1-hour event you will learn about the Georgia Center
  for Child Advocacy’s leadership role in facilitating prevention\, interve
 ntion\, and treatment for victims of sexual abuse and serious physical abu
 se in Fulton and DeKalb Counties. Learn how devastating child abuse can be
  on a life and a society\, and how we can bring hope and healing for child
 ren and communities.\n\nTours are held once a month from 12 – 1pm and incl
 ude lunch – generously provided by Chick-Fil-A.
X-WR-RELCALID:9c1a1a0b480ffb7b37222523ba91d68a
X-WR-TIMEZONE:America/New_York
BEGIN:VTIMEZONE
TZID:America/New_York
BEGIN:STANDARD
TZNAME:EST
DTSTART:20151101T020000
TZOFFSETFROM:-0400
TZOFFSETTO:-0500
RDATE:20161106T020000
RDATE:20171105T020000
END:STANDARD
BEGIN:DAYLIGHT
TZNAME:EDT
DTSTART:20160313T020000
TZOFFSETFROM:-0500
TZOFFSETTO:-0400
RDATE:20170312T020000
END:DAYLIGHT
END:VTIMEZONE
BEGIN:VEVENT
UID:5fd25f5a-e78c-4853-ac36-9a08307b460e
DTSTAMP:20260422T220931Z
DESCRIPTION:Please join us for a tour of our Center – meet our CEO and staf
 f!\n\nAt this FREE\, 1-hour event you will learn about the Georgia Center 
 for Child Advocacy’s leadership role in facilitating prevention\, interven
 tion\, and treatment for victims of sexual abuse and serious physical abus
 e in Fulton and DeKalb Counties. Learn how devastating child abuse can be 
 on a life and a society\, and how we can bring hope and healing for childr
 en and communities.\n\nTours are held once a month from 12 – 1pm and inclu
 de lunch – generously provided by Chick-Fil-A.
DTSTART;TZID=America/New_York:20160525T120000
DTEND;TZID=America/New_York:20160525T130000
LOCATION:Georgia Center for Child Advocacy- 1485 Woodland Avenue Atlanta\, 
 GA 30316
SUMMARY:Center Tour
END:VEVENT
END:VCALENDAR
