BEGIN:VCALENDAR
VERSION:2.0
PRODID:-//georgiacenterforchildadvocacy.org//NONSGML kigkonsult.se iCalcrea
 tor 2.30.10//
CALSCALE:GREGORIAN
METHOD:PUBLISH
UID:e925192e-75d6-4557-ac84-6369445f4d8e
X-WR-CALDESC:Please join us at the 11th Annual Change Makers Breakfast supp
 orting the Georgia Center for Child Advocacy April 19th from 8:30am to 10:
 00am in the Schwartz-Goldstein Hall at The Temple with Keynote Speaker Jen
 na Quinn.  Admission is complimentary\, however reservations are required.
X-WR-RELCALID:3ff8cf7c63a205e2b4de1fac5914cff6
X-WR-TIMEZONE:America/New_York
BEGIN:VTIMEZONE
TZID:America/New_York
BEGIN:STANDARD
TZNAME:EST
DTSTART:20151101T020000
TZOFFSETFROM:-0400
TZOFFSETTO:-0500
RDATE:20161106T020000
END:STANDARD
BEGIN:DAYLIGHT
TZNAME:EDT
DTSTART:20160313T020000
TZOFFSETFROM:-0500
TZOFFSETTO:-0400
RDATE:20170312T020000
END:DAYLIGHT
END:VTIMEZONE
BEGIN:VEVENT
UID:60cbf7ee-fdfc-4578-8e8c-8984dc5bbfbf
DTSTAMP:20260422T203422Z
DESCRIPTION:Please join us at the 11th Annual Change Makers Breakfast suppo
 rting the Georgia Center for Child Advocacy April 19th from 8:30am to 10:0
 0am in the Schwartz-Goldstein Hall at The Temple with Keynote Speaker Jenn
 a Quinn.  Admission is complimentary\, however reservations are required.
DTSTART;TZID=America/New_York:20160419T083000
DTEND;TZID=America/New_York:20160419T100000
LOCATION:The Temple\, 1589 Peachtree Street\, Atlanta\, GA 30309
SUMMARY:The 11th Annual Change Makers Breakfast
END:VEVENT
END:VCALENDAR
