BEGIN:VCALENDAR
VERSION:2.0
PRODID:-//georgiacenterforchildadvocacy.org//NONSGML kigkonsult.se iCalcrea
 tor 2.30.10//
CALSCALE:GREGORIAN
METHOD:PUBLISH
UID:6f183099-131e-47be-964a-5c7a94f67f7f
X-WR-CALDESC:
X-WR-RELCALID:3c1128aa22f985f160e4f1295c1022fd
X-WR-TIMEZONE:America/New_York
BEGIN:VTIMEZONE
TZID:America/New_York
BEGIN:STANDARD
TZNAME:EST
DTSTART:20151101T020000
TZOFFSETFROM:-0400
TZOFFSETTO:-0500
RDATE:20161106T020000
END:STANDARD
BEGIN:DAYLIGHT
TZNAME:EDT
DTSTART:20160313T020000
TZOFFSETFROM:-0500
TZOFFSETTO:-0400
RDATE:20170312T020000
END:DAYLIGHT
END:VTIMEZONE
BEGIN:VEVENT
UID:1f49a66b-a0ad-487f-90a4-faad5a7cfc4e
DTSTAMP:20260422T203422Z
DESCRIPTION:
DTSTART;TZID=America/New_York:20160401T100000
DTEND;TZID=America/New_York:20160401T110000
LOCATION:Georgia Center for Child Advocacy\, 1485 Woodland Ave.\, SE\, Atla
 nta\, GA 30316
SUMMARY:Children's Memorial Flag Raising
END:VEVENT
END:VCALENDAR
