BEGIN:VCALENDAR
VERSION:2.0
PRODID:-//georgiacenterforchildadvocacy.org//NONSGML kigkonsult.se iCalcrea
 tor 2.30.10//
CALSCALE:GREGORIAN
METHOD:PUBLISH
UID:c4da8aee-7fe1-46a9-b181-d2aab3fd2e3e
X-WR-CALDESC:The Works of HeART benefit is joining the arts community and c
 hild advocacy to bring an end to child sexual and physical abuse. The even
 t includes an incredible art auction\, exclusive mixed music\, complimenta
 ry drinks\, and delicious hors d’eouvres by some of the best restaurants i
 n Midtown. Eat\, mingle with our artists\, take pictures in our photo boot
 h\, and bid on one of a kind works of art from renowned artists around the
  world. It’ll be a night of fun and philanthropy that you don’t want to mi
 ss!!! \n\nVisit our link below to purchase tickets\, be a sponsor\, make a
  donation\, or learn more!
X-WR-RELCALID:8e428f4056c984f37ca307dc4fb364c6
X-WR-TIMEZONE:America/New_York
BEGIN:VTIMEZONE
TZID:America/New_York
BEGIN:STANDARD
TZNAME:EST
DTSTART:20151101T020000
TZOFFSETFROM:-0400
TZOFFSETTO:-0500
RDATE:20161106T020000
END:STANDARD
BEGIN:DAYLIGHT
TZNAME:EDT
DTSTART:20150308T020000
TZOFFSETFROM:-0500
TZOFFSETTO:-0400
RDATE:20160313T020000
RDATE:20170312T020000
END:DAYLIGHT
END:VTIMEZONE
BEGIN:VEVENT
UID:e4296a8c-e252-4061-810d-47e79f2e07e9
DTSTAMP:20260422T170819Z
DESCRIPTION:The Works of HeART benefit is joining the arts community and ch
 ild advocacy to bring an end to child sexual and physical abuse. The event
  includes an incredible art auction\, exclusive mixed music\, complimentar
 y drinks\, and delicious hors d’eouvres by some of the best restaurants in
  Midtown. Eat\, mingle with our artists\, take pictures in our photo booth
 \, and bid on one of a kind works of art from renowned artists around the 
 world. It’ll be a night of fun and philanthropy that you don’t want to mis
 s!!! \n\nVisit our link below to purchase tickets\, be a sponsor\, make a 
 donation\, or learn more!
DTSTART;TZID=America/New_York:20160227T183000
DTEND;TZID=America/New_York:20160227T213000
LOCATION:Westside Cultural Arts Center
SUMMARY:Works of HeART
END:VEVENT
END:VCALENDAR
