BEGIN:VCALENDAR
VERSION:2.0
PRODID:-//georgiacenterforchildadvocacy.org//NONSGML kigkonsult.se iCalcrea
 tor 2.30.10//
CALSCALE:GREGORIAN
METHOD:PUBLISH
UID:e75f838f-e2f9-4e12-b22d-962fdd1b80f1
X-WR-CALDESC:<strong>HUMAN SEX TRAFFICKING AWARENESS WEEK - January 18-22\,
  2016</strong>\n\nRichmont Graduate University (RGU) and the Georgia Cente
 r for Child Advocacy are pleased to offer Stewards of Children training\; 
 the nationally recognized child sexual abuse prevention program. The Stewa
 rds of Children training curriculum is developed by Darkness to Light. \n
 \n<strong>Target Audience:</strong>\nStewards of Children is for any respo
 nsible adult who cares about the protection of children\, whether a parent
  or professional. It is also used for individuals and organizations who se
 ek training for staff and volunteers in the prevention of child sexual abu
 se\, and to enhance their child protection policies and procedures.\n \nSt
 ewards of Children is a 2 hour prevention training program that teaches ad
 ults how to prevent\, recognize and react responsibly to child sexual abus
 e. It is the only nationally distributed\, evidence-based program proven t
 o increase knowledge\, improve attitudes and change child protection behav
 iors. \n\n<strong>Topics covered include:</strong>\n-Facts about the probl
 em of child sexual abuse\n-Types of situations in which child sexual abuse
  might occur\n-Simple and effective strategies for protecting children fro
 m sexual abuse\n-The importance of talking about the prevention of sexual 
 abuse with children and other adults\n-Signs of sexual abuse so that you m
 ight intervene and be able to react responsibly\n\n<strong>Cost:</strong>
 \n$15.00\n\n<strong>Registration:</strong>\nRegistration is required. To r
 egister\, please click 'register now' below and select a ticket. \n\n<stro
 ng>Continuing Education:</strong>\nThis program is approved for 2 contact 
 hours of continuing education by:\nThe National Association of Social Work
 ers \nThe National Board for Certified Counselors\nGeorgia Peace Officer S
 tandards and Training (POST)\nBright From the Start for Childcare provider
 s\nOhio Nurses Association\nEmergency Medical Services\nGeorgia Bar Associ
 ation\n
X-WR-RELCALID:9a9deeadefaa5e7f89366d6b0c699fa4
X-WR-TIMEZONE:America/New_York
BEGIN:VTIMEZONE
TZID:America/New_York
BEGIN:STANDARD
TZNAME:EST
DTSTART:20151101T020000
TZOFFSETFROM:-0400
TZOFFSETTO:-0500
RDATE:20161106T020000
END:STANDARD
BEGIN:DAYLIGHT
TZNAME:EDT
DTSTART:20150308T020000
TZOFFSETFROM:-0500
TZOFFSETTO:-0400
RDATE:20160313T020000
RDATE:20170312T020000
END:DAYLIGHT
END:VTIMEZONE
BEGIN:VEVENT
UID:6878d9a5-70c8-4cc8-8f7d-fc5f41909959
DTSTAMP:20260422T152618Z
DESCRIPTION:<strong>HUMAN SEX TRAFFICKING AWARENESS WEEK - January 18-22\, 
 2016</strong>\n\nRichmont Graduate University (RGU) and the Georgia Center
  for Child Advocacy are pleased to offer Stewards of Children training\; t
 he nationally recognized child sexual abuse prevention program. The Stewar
 ds of Children training curriculum is developed by Darkness to Light. \n\n
 <strong>Target Audience:</strong>\nStewards of Children is for any respons
 ible adult who cares about the protection of children\, whether a parent o
 r professional. It is also used for individuals and organizations who seek
  training for staff and volunteers in the prevention of child sexual abuse
 \, and to enhance their child protection policies and procedures.\n \nStew
 ards of Children is a 2 hour prevention training program that teaches adul
 ts how to prevent\, recognize and react responsibly to child sexual abuse.
  It is the only nationally distributed\, evidence-based program proven to 
 increase knowledge\, improve attitudes and change child protection behavio
 rs. \n\n<strong>Topics covered include:</strong>\n-Facts about the problem
  of child sexual abuse\n-Types of situations in which child sexual abuse m
 ight occur\n-Simple and effective strategies for protecting children from 
 sexual abuse\n-The importance of talking about the prevention of sexual ab
 use with children and other adults\n-Signs of sexual abuse so that you mig
 ht intervene and be able to react responsibly\n\n<strong>Cost:</strong>\n$
 15.00\n\n<strong>Registration:</strong>\nRegistration is required. To regi
 ster\, please click 'register now' below and select a ticket. \n\n<strong>
 Continuing Education:</strong>\nThis program is approved for 2 contact hou
 rs of continuing education by:\nThe National Association of Social Workers
  \nThe National Board for Certified Counselors\nGeorgia Peace Officer Stan
 dards and Training (POST)\nBright From the Start for Childcare providers\n
 Ohio Nurses Association\nEmergency Medical Services\nGeorgia Bar Associati
 on\n
DTSTART;TZID=America/New_York:20160122T130000
DTEND;TZID=America/New_York:20160122T150000
LOCATION:Richmont Chapel\, Richmont Graduate University\, 1900 The Exchange
  Southeast\, #100\, Atlanta\, GA 30339
SUMMARY:Stewards of Children Training
END:VEVENT
END:VCALENDAR
