BEGIN:VCALENDAR
VERSION:2.0
PRODID:-//georgiacenterforchildadvocacy.org//NONSGML kigkonsult.se iCalcrea
 tor 2.30.10//
CALSCALE:GREGORIAN
METHOD:PUBLISH
UID:3256f2d3-14c0-492b-8109-41e265c5ca0e
X-WR-CALDESC:A wonderful dining and dancing experience!  Adjacent to The Di
 stillery at American Spirit Works\, The Stave Room offers 16\,000 square f
 eet of private event space and a private courtyard. A one-of-a-kind settin
 g for a truly unique experience.\n\n<strong>Eat\, Drink and Dance the Nigh
 t Away!</strong>\n<strong>Eat:</strong> You won’t believe the food at the 
 Cheer for Children Ball. And these chefs are the reason. The American Culi
 nary Federation\, Greater Atlanta Chapter provides the wonderful eats at o
 ur Ball every year.\n\n<strong>Drink:</strong> Enjoy the evening with our 
 open bar (both alcoholic and non-alcoholic drinks served). And don’t forge
 t to arrange for a cab\, Uber or designated driver!\n\n<strong>Dance:</str
 ong> We have selected an absolutely marvelous band for this year’s Cheer f
 or Children Ball. The Maxx! This dynamic band has performed at more than t
 hree thousand events\, for more than one million people on four continents
 . Today\, founding members Rod Whittaker (bass/keyboards/vocals)\, Leroy “
 Roc” Lovelace (sax/vocals)\, Steven Rollins (guitar/vocals) and former act
 ive member now manager Tony Cooper are joined by more recent arrivals\, Ra
 iny Middleton (vocals)\, Darnell Springer (trumpet/keyboards/vocals) and J
 immy Calhoun (drummer) on a mission to carry they’re innovative and authen
 tic live performances to an even wider audience.\n\n<strong>Silent and Liv
 e Auction:</strong> Our silent and live auction items feature local Atlant
 a AND destination location resort\, entertainment\, sport\, restaurant and
  service items and packages that are truly unique!
X-WR-RELCALID:6c54994d69b65f18e5ad4a567080bfc7
X-WR-TIMEZONE:America/New_York
BEGIN:VTIMEZONE
TZID:America/New_York
BEGIN:STANDARD
TZNAME:EST
DTSTART:20141102T020000
TZOFFSETFROM:-0400
TZOFFSETTO:-0500
RDATE:20151101T020000
RDATE:20161106T020000
END:STANDARD
BEGIN:DAYLIGHT
TZNAME:EDT
DTSTART:20150308T020000
TZOFFSETFROM:-0500
TZOFFSETTO:-0400
RDATE:20160313T020000
RDATE:20170312T020000
END:DAYLIGHT
END:VTIMEZONE
BEGIN:VEVENT
UID:1f8f02d4-7f02-4575-bf5f-fff663e909d5
DTSTAMP:20260424T101245Z
DESCRIPTION:A wonderful dining and dancing experience!  Adjacent to The Dis
 tillery at American Spirit Works\, The Stave Room offers 16\,000 square fe
 et of private event space and a private courtyard. A one-of-a-kind setting
  for a truly unique experience.\n\n<strong>Eat\, Drink and Dance the Night
  Away!</strong>\n<strong>Eat:</strong> You won’t believe the food at the C
 heer for Children Ball. And these chefs are the reason. The American Culin
 ary Federation\, Greater Atlanta Chapter provides the wonderful eats at ou
 r Ball every year.\n\n<strong>Drink:</strong> Enjoy the evening with our o
 pen bar (both alcoholic and non-alcoholic drinks served). And don’t forget
  to arrange for a cab\, Uber or designated driver!\n\n<strong>Dance:</stro
 ng> We have selected an absolutely marvelous band for this year’s Cheer fo
 r Children Ball. The Maxx! This dynamic band has performed at more than th
 ree thousand events\, for more than one million people on four continents.
  Today\, founding members Rod Whittaker (bass/keyboards/vocals)\, Leroy “R
 oc” Lovelace (sax/vocals)\, Steven Rollins (guitar/vocals) and former acti
 ve member now manager Tony Cooper are joined by more recent arrivals\, Rai
 ny Middleton (vocals)\, Darnell Springer (trumpet/keyboards/vocals) and Ji
 mmy Calhoun (drummer) on a mission to carry they’re innovative and authent
 ic live performances to an even wider audience.\n\n<strong>Silent and Live
  Auction:</strong> Our silent and live auction items feature local Atlanta
  AND destination location resort\, entertainment\, sport\, restaurant and 
 service items and packages that are truly unique!
DTSTART;TZID=America/New_York:20151016T193000
DTEND;TZID=America/New_York:20151016T230000
LOCATION:American Spirit Works - 199 Armour Drive\, Atlanta\, Georgia 30306
SUMMARY:Cheer for Children
END:VEVENT
END:VCALENDAR
